BEGIN:VCALENDAR
VERSION:2.0
PRODID:-// - ECPv6.15.20//NONSGML v1.0//EN
CALSCALE:GREGORIAN
METHOD:PUBLISH
X-ORIGINAL-URL:https://www.baus.org/en
X-WR-CALDESC:Events for 
REFRESH-INTERVAL;VALUE=DURATION:PT1H
X-Robots-Tag:noindex
X-PUBLISHED-TTL:PT1H
BEGIN:VTIMEZONE
TZID:America/New_York
BEGIN:DAYLIGHT
TZOFFSETFROM:-0500
TZOFFSETTO:-0400
TZNAME:EDT
DTSTART:20170312T070000
END:DAYLIGHT
BEGIN:STANDARD
TZOFFSETFROM:-0400
TZOFFSETTO:-0500
TZNAME:EST
DTSTART:20171105T060000
END:STANDARD
BEGIN:DAYLIGHT
TZOFFSETFROM:-0500
TZOFFSETTO:-0400
TZNAME:EDT
DTSTART:20180311T070000
END:DAYLIGHT
BEGIN:STANDARD
TZOFFSETFROM:-0400
TZOFFSETTO:-0500
TZNAME:EST
DTSTART:20181104T060000
END:STANDARD
BEGIN:DAYLIGHT
TZOFFSETFROM:-0500
TZOFFSETTO:-0400
TZNAME:EDT
DTSTART:20190310T070000
END:DAYLIGHT
BEGIN:STANDARD
TZOFFSETFROM:-0400
TZOFFSETTO:-0500
TZNAME:EST
DTSTART:20191103T060000
END:STANDARD
END:VTIMEZONE
BEGIN:VEVENT
DTSTART;TZID=America/New_York:20181006T090000
DTEND;TZID=America/New_York:20181006T112000
DTSTAMP:20260423T154413
CREATED:20180927T180725Z
LAST-MODIFIED:20180927T180740Z
UID:13133-1538816400-1538824800@www.baus.org
SUMMARY:A Course in the Anguttara Nikaya with Ven. Bhikkhu Bodhi
DESCRIPTION:October 6 @ 9:00 am – 11:20 am\n@ 9:00 am – 11:20 am The Numerical Discourses of the Buddha The Anguttara Nikaya arranges discourses of the Buddha according to a numerical pattern\, grouping together suttas that revolve around the same number of items\, from “The Ones” to “The Elevens.” The class starts at 9:00 am with a 50-minute silent meditation.
URL:https://www.baus.org/en/event/a-course-in-the-anguttara-nikaya-with-ven-bhikkhu-bodhi-18/
CATEGORIES:Chuang Yen Monastery
END:VEVENT
BEGIN:VEVENT
DTSTART;TZID=America/New_York:20180929T090000
DTEND;TZID=America/New_York:20180929T112000
DTSTAMP:20260423T154413
CREATED:20180618T023054Z
LAST-MODIFIED:20180618T023054Z
UID:12796-1538211600-1538220000@www.baus.org
SUMMARY:A Course in the Anguttara Nikaya with Ven. Bhikkhu Bodhi
DESCRIPTION:@ 9:00 am – 11:20 am\n\nThe Numerical Discourses of the Buddha The Anguttara Nikaya arranges discourses of the Buddha according to a numerical pattern\, grouping together suttas that revolve around the same number of items\, from “The Ones” to “The Elevens.” The class starts at 9:00 am with a 50-minute silent meditation. This is followed by a discussion of the suttas.
URL:https://www.baus.org/en/event/a-course-in-the-anguttara-nikaya-with-ven-bhikkhu-bodhi-16/
CATEGORIES:Chuang Yen Monastery
END:VEVENT
BEGIN:VEVENT
DTSTART;TZID=America/New_York:20180916T093000
DTEND;TZID=America/New_York:20180916T160000
DTSTAMP:20260423T154413
CREATED:20180331T052436Z
LAST-MODIFIED:20180331T052436Z
UID:12408-1537090200-1537113600@www.baus.org
SUMMARY:1 Day Meditation Retreat with David Listen
DESCRIPTION:Join us for a full day Meditation retreat 9:30-4:00 pm\nLocation: Kuan Yin Hall
URL:https://www.baus.org/en/event/1-day-meditation-retreat-with-david-listen-5/
CATEGORIES:Chuang Yen Monastery
END:VEVENT
BEGIN:VEVENT
DTSTART;TZID=America/New_York:20180915T090000
DTEND;TZID=America/New_York:20180915T112000
DTSTAMP:20260423T154413
CREATED:20180618T022541Z
LAST-MODIFIED:20180618T022917Z
UID:12790-1537002000-1537010400@www.baus.org
SUMMARY:A Course in the Anguttara Nikaya with Ven. Bhikkhu Bodhi
DESCRIPTION:@ 9:00 am – 11:20 am\n\nThe Numerical Discourses of the Buddha The Anguttara Nikaya arranges discourses of the Buddha according to a numerical pattern\, grouping together suttas that revolve around the same number of items\, from “The Ones” to “The Elevens.” The class starts at 9:00 am with a 50-minute silent meditation. This is followed by a discussion of the suttas.
URL:https://www.baus.org/en/event/a-course-in-the-anguttara-nikaya-with-ven-bhikkhu-bodhi-15/
CATEGORIES:Chuang Yen Monastery
END:VEVENT
BEGIN:VEVENT
DTSTART;TZID=America/New_York:20180909T093000
DTEND;TZID=America/New_York:20180909T110000
DTSTAMP:20260423T154413
CREATED:20180331T050844Z
LAST-MODIFIED:20180331T050844Z
UID:12395-1536485400-1536490800@www.baus.org
SUMMARY:Sunday am Meditation
DESCRIPTION:Please join us Bruce Kou will be teaching Meditation.\nLocation: Kaun Yin Hall
URL:https://www.baus.org/en/event/sunday-am-meditation-5/
CATEGORIES:Chuang Yen Monastery
END:VEVENT
BEGIN:VEVENT
DTSTART;TZID=America/New_York:20180901T090000
DTEND;TZID=America/New_York:20180901T090000
DTSTAMP:20260423T154413
CREATED:20180807T205947Z
LAST-MODIFIED:20180807T205947Z
UID:12953-1535792400-1535792400@www.baus.org
SUMMARY:TOE Day Long Meditation Retreat
DESCRIPTION:With Bhante Subodha
URL:https://www.baus.org/en/event/toe-day-long-meditation-retreat/
LOCATION:Temple of Enlightenment\, 3070 Albany Crescent\, Bronx\, NY\, 10463\, United States
END:VEVENT
BEGIN:VEVENT
DTSTART;TZID=America/New_York:20180826T093000
DTEND;TZID=America/New_York:20180826T110000
DTSTAMP:20260423T154413
CREATED:20180331T053620Z
LAST-MODIFIED:20180331T053620Z
UID:12423-1535275800-1535281200@www.baus.org
SUMMARY:Sunday am Meditation
DESCRIPTION:Join us for Sunday morning meditation\nLocation: Kuan Yin Hall
URL:https://www.baus.org/en/event/sunday-am-meditation-11/
CATEGORIES:Chuang Yen Monastery
END:VEVENT
BEGIN:VEVENT
DTSTART;TZID=America/New_York:20180825T100000
DTEND;TZID=America/New_York:20180825T120000
DTSTAMP:20260423T154413
CREATED:20180212T021559Z
LAST-MODIFIED:20180313T033947Z
UID:11792-1535191200-1535198400@www.baus.org
SUMMARY:BRONX • The Ullambana Ceremony
DESCRIPTION:The Ullambana Ceremony \nAugust 25\, Saturday – 10-12 am     
URL:https://www.baus.org/en/event/the-ullambana-ceremony-4/
CATEGORIES:Temple of Enlightenment
END:VEVENT
BEGIN:VEVENT
DTSTART;TZID=America/New_York:20180819T100000
DTEND;TZID=America/New_York:20180819T123000
DTSTAMP:20260423T154413
CREATED:20180211T171009Z
LAST-MODIFIED:20180211T171009Z
UID:11755-1534672800-1534681800@www.baus.org
SUMMARY:Ullambana Ceremony
DESCRIPTION:Ullambana Ceremony \n10:00 am – 12:00 pm
URL:https://www.baus.org/en/event/ullambana-ceremony/
CATEGORIES:Chuang Yen Monastery
END:VEVENT
BEGIN:VEVENT
DTSTART;TZID=America/New_York:20180812T093000
DTEND;TZID=America/New_York:20180812T110000
DTSTAMP:20260423T154413
CREATED:20180331T050725Z
LAST-MODIFIED:20180331T050725Z
UID:12393-1534066200-1534071600@www.baus.org
SUMMARY:Sunday am Meditation
DESCRIPTION:Please join us Bruce Kou will be teaching Meditation.\nLocation: Kaun Yin Hall
URL:https://www.baus.org/en/event/sunday-am-meditation-4/
CATEGORIES:Chuang Yen Monastery
END:VEVENT
BEGIN:VEVENT
DTSTART;TZID=America/New_York:20180805T093000
DTEND;TZID=America/New_York:20180805T110000
DTSTAMP:20260423T154413
CREATED:20180331T053459Z
LAST-MODIFIED:20180331T053459Z
UID:12421-1533461400-1533466800@www.baus.org
SUMMARY:Sunday am Meditation
DESCRIPTION:Join us for Sunday morning meditation\nLocation: Kuan Yin Hall
URL:https://www.baus.org/en/event/sunday-am-meditation-10/
CATEGORIES:Chuang Yen Monastery
END:VEVENT
BEGIN:VEVENT
DTSTART;TZID=America/New_York:20180729T100000
DTEND;TZID=America/New_York:20180729T120000
DTSTAMP:20260423T154413
CREATED:20180211T170617Z
LAST-MODIFIED:20180211T170617Z
UID:11753-1532858400-1532865600@www.baus.org
SUMMARY:Kuan Yin Bodhisattva's Enlightenment Ceremony
DESCRIPTION:Kuan Yin Bodhisattva’s Enlightenment Ceremony \n10:00 am -12:00pm
URL:https://www.baus.org/en/event/kuan-yin-bodhisattvas-enlightenment-ceremony-2/
CATEGORIES:Chuang Yen Monastery
END:VEVENT
BEGIN:VEVENT
DTSTART;TZID=America/New_York:20180728T100000
DTEND;TZID=America/New_York:20180728T120000
DTSTAMP:20260423T154413
CREATED:20180212T021122Z
LAST-MODIFIED:20180313T034202Z
UID:11790-1532772000-1532779200@www.baus.org
SUMMARY:BRONX • Kuan-Yin Bodhisattva’s Enlightenment Ceremony
DESCRIPTION:BRONX • Kuan-Yin Bodhisattva’s Enlightenment Ceremony \nJuly 28\, Saturday • 10-12 am
URL:https://www.baus.org/en/event/kuan-yin-bodhisattvas-enlightenment-ceremony-3/
CATEGORIES:Temple of Enlightenment
END:VEVENT
BEGIN:VEVENT
DTSTART;TZID=America/New_York:20180728T090000
DTEND;TZID=America/New_York:20180728T232000
DTSTAMP:20260423T154413
CREATED:20180618T023857Z
LAST-MODIFIED:20180618T023857Z
UID:12802-1532768400-1532820000@www.baus.org
SUMMARY:A Course in the Anguttara Nikaya with Ven. Bhikkhu Bodhi
DESCRIPTION: 9:00 am – 11:20 am\n\nThe Numerical Discourses of the Buddha The Anguttara Nikaya arranges discourses of the Buddha according to a numerical pattern\, grouping together suttas that revolve around the same number of items\, from “The Ones” to “The Elevens.” The class starts at 9:00 am with a 50-minute silent meditation. This […]
URL:https://www.baus.org/en/event/a-course-in-the-anguttara-nikaya-with-ven-bhikkhu-bodhi-17/
CATEGORIES:Chuang Yen Monastery
END:VEVENT
BEGIN:VEVENT
DTSTART;TZID=America/New_York:20180715T140000
DTEND;TZID=America/New_York:20180715T154000
DTSTAMP:20260423T154413
CREATED:20180622T030151Z
LAST-MODIFIED:20180622T030151Z
UID:12844-1531663200-1531669200@www.baus.org
SUMMARY:A Short Introduction to Buddhism
DESCRIPTION:The Path to Inner Freedom\nThe class will be conducted in 2 parts each containing an instruction section and a practice section. This Introductory series is deigned to be a 6 part program with an emphasis on gaining knowledge of the fundamentals of Buddhism.\nA commitment to all 6 classes is required.
URL:https://www.baus.org/en/event/a-short-introduction-to-buddhism/
CATEGORIES:Woo Ju Memorial Library
END:VEVENT
BEGIN:VEVENT
DTSTART;TZID=America/New_York:20180715T093000
DTEND;TZID=America/New_York:20180715T110000
DTSTAMP:20260423T154413
CREATED:20180331T050538Z
LAST-MODIFIED:20180331T050538Z
UID:12391-1531647000-1531652400@www.baus.org
SUMMARY:Sunday am Meditation
DESCRIPTION:Please join us Bruce Kou will be teaching Meditation.\nLocation: Kaun Yin Ha
URL:https://www.baus.org/en/event/sunday-am-meditation-3/
CATEGORIES:Chuang Yen Monastery
END:VEVENT
BEGIN:VEVENT
DTSTART;TZID=America/New_York:20180708T093000
DTEND;TZID=America/New_York:20180708T110000
DTSTAMP:20260423T154413
CREATED:20180331T053035Z
LAST-MODIFIED:20180331T053035Z
UID:12416-1531042200-1531047600@www.baus.org
SUMMARY:Sunday am Meditation
DESCRIPTION:Join us for Sunday morning meditation with Venerable Suddhaso\nLocation: Kuan Yin Hall
URL:https://www.baus.org/en/event/sunday-am-meditation-8/
CATEGORIES:Chuang Yen Monastery
END:VEVENT
BEGIN:VEVENT
DTSTART;TZID=America/New_York:20180624T093000
DTEND;TZID=America/New_York:20180624T110000
DTSTAMP:20260423T154413
CREATED:20180331T050248Z
LAST-MODIFIED:20180331T050248Z
UID:12389-1529832600-1529838000@www.baus.org
SUMMARY:Sunday am Meditation
DESCRIPTION:Please join us Bruce Kou will be teaching Meditation.\nLocation: Kaun Yin Ha
URL:https://www.baus.org/en/event/sunday-am-meditation-2/
CATEGORIES:Chuang Yen Monastery
END:VEVENT
BEGIN:VEVENT
DTSTART;TZID=America/New_York:20180617T090000
DTEND;TZID=America/New_York:20180617T232000
DTSTAMP:20260423T154413
CREATED:20180618T021843Z
LAST-MODIFIED:20180618T021843Z
UID:12786-1529226000-1529277600@www.baus.org
SUMMARY:A Course in the Anguttara Nikaya with Ven. Bhikkhu Bodhi
DESCRIPTION:A Course in the Anguttara Nikaya with Ven. Bhikkhu Bodhi\n\nJuly 28 @ 9:00 am – 11:20 am\n\nThe Numerical Discourses of the Buddha The Anguttara Nikaya arranges discourses of the Buddha according to a numerical pattern\, grouping together suttas that revolve around the same number of items\, from “The Ones” to “The Elevens.” The class starts at 9:00 am with a 50-minute silent meditation. This is followed by a discussion of the suttas […]
URL:https://www.baus.org/en/event/a-course-in-the-anguttara-nikaya-with-ven-bhikkhu-bodhi-13/
CATEGORIES:Chuang Yen Monastery
END:VEVENT
BEGIN:VEVENT
DTSTART;TZID=America/New_York:20180527T093000
DTEND;TZID=America/New_York:20180527T110000
DTSTAMP:20260423T154413
CREATED:20180331T045850Z
LAST-MODIFIED:20180331T054519Z
UID:12385-1527413400-1527418800@www.baus.org
SUMMARY:Sunday am Meditation
DESCRIPTION:Please join us Bruce Kou will be teaching Meditation.\nLocation: Great Buddha Halll
URL:https://www.baus.org/en/event/subday-am-meditation/
CATEGORIES:Chuang Yen Monastery
END:VEVENT
BEGIN:VEVENT
DTSTART;TZID=America/New_York:20180526T090000
DTEND;TZID=America/New_York:20180526T112000
DTSTAMP:20260423T154413
CREATED:20180308T220403Z
LAST-MODIFIED:20180308T220403Z
UID:12074-1527325200-1527333600@www.baus.org
SUMMARY:A Course in the Anguttara Nikaya  with Ven. Bhikkhu Bodhi
DESCRIPTION:The Numerical Discourses of the Buddha\nThe Anguttara Nikaya arranges discourses of the Buddha according to a numerical pattern\, grouping together suttas that revolve around the same number of items\, from “The Ones” to “The Elevens.” The class starts at 9:00 am in the Woo-Ju Library with a 50-minute silent meditation. This is followed by a discussion of the suttas from 10:00 am to 11:20 am. This section of the class will continue with the study of “The Book of the Twos.”
URL:https://www.baus.org/en/event/a-course-in-the-anguttara-nikaya-with-ven-bhikkhu-bodhi-10/
CATEGORIES:Chuang Yen Monastery
END:VEVENT
BEGIN:VEVENT
DTSTART;TZID=America/New_York:20180520T140000
DTEND;TZID=America/New_York:20180520T160000
DTSTAMP:20260423T154413
CREATED:20180420T001641Z
LAST-MODIFIED:20180420T001641Z
UID:12499-1526824800-1526832000@www.baus.org
SUMMARY:Dual Brains Artist Talk & Video Presentation
DESCRIPTION:Eva Lee is pleased to give an Artist Talk and video presentation of Dual Brains\, a brainwave-driven performance. This work is inspired by neuroscience research.
URL:https://www.baus.org/en/event/dual-brains-artist-talk-video-presentation/
CATEGORIES:Woo Ju Memorial Library
END:VEVENT
BEGIN:VEVENT
DTSTART;TZID=America/New_York:20180520T093000
DTEND;TZID=America/New_York:20180520T160000
DTSTAMP:20260423T154413
CREATED:20180331T051930Z
LAST-MODIFIED:20180331T051930Z
UID:12404-1526808600-1526832000@www.baus.org
SUMMARY:1 Day Meditation Retreat with David Listen
DESCRIPTION:Join us for a full day Meditation retreat 9:30-4:00 pm\nLocation: Kuan Yin Hall
URL:https://www.baus.org/en/event/1-day-meditation-retreat-with-david-listen-3/
CATEGORIES:Chuang Yen Monastery
END:VEVENT
BEGIN:VEVENT
DTSTART;TZID=America/New_York:20180519T100000
DTEND;TZID=America/New_York:20180519T120000
DTSTAMP:20260423T154413
CREATED:20180212T020418Z
LAST-MODIFIED:20180310T172040Z
UID:11788-1526724000-1526731200@www.baus.org
SUMMARY:BRONX • The Buddha’s Birthday Ceremony
DESCRIPTION:The Buddha’s Birthday Ceremony \nMay 19\, Saturday – 10-12 am
URL:https://www.baus.org/en/event/the-buddhas-birthday-ceremony/
CATEGORIES:Temple of Enlightenment
END:VEVENT
BEGIN:VEVENT
DTSTART;TZID=America/New_York:20180513T100000
DTEND;TZID=America/New_York:20180513T100000
DTSTAMP:20260423T154413
CREATED:20180211T164951Z
LAST-MODIFIED:20180211T164951Z
UID:11747-1526205600-1526205600@www.baus.org
SUMMARY:Vesak / Buddha Day Ceremony & Mother's Day Garden Party
DESCRIPTION:Vesak / Buddha Day Ceremony & Mother’s Day Garden Party \n10:00 am – 3:00pm
URL:https://www.baus.org/en/event/vesak-buddha-day-ceremony-mothers-day-garden-party/
CATEGORIES:Chuang Yen Monastery
END:VEVENT
BEGIN:VEVENT
DTSTART;TZID=America/New_York:20180506T133000
DTEND;TZID=America/New_York:20180506T133000
DTSTAMP:20260423T154413
CREATED:20180211T164634Z
LAST-MODIFIED:20180211T164730Z
UID:11745-1525613400-1525613400@www.baus.org
SUMMARY:Spring Ritual for the Deceased
DESCRIPTION:Spring Ritual for the Deceased \n1:30 – 4:00 pm
URL:https://www.baus.org/en/event/spring-ritual-for-the-deceased-2/
CATEGORIES:Chuang Yen Monastery
END:VEVENT
BEGIN:VEVENT
DTSTART;TZID=America/New_York:20180506T100000
DTEND;TZID=America/New_York:20180506T160000
DTSTAMP:20260423T154413
CREATED:20180304T171332Z
LAST-MODIFIED:20180304T172741Z
UID:12058-1525600800-1525622400@www.baus.org
SUMMARY:The Triple Gem with Ven. Ekāyana
DESCRIPTION:May 6 • Woo Ju Memorial Library  \n10:00 – 11:30 Taking refuge and its benefits (Verse 13 – 14)  \n1:30 -2:20 Meditation  \n2:30 -3:30 The essence of taking refuge (Verse 15 – 16)  \n3:30-4:00 Q&A
URL:https://www.baus.org/en/event/the-triple-gem-with-ven-ekayana/
CATEGORIES:Woo Ju Memorial Library
END:VEVENT
BEGIN:VEVENT
DTSTART;TZID=America/New_York:20180429T100000
DTEND;TZID=America/New_York:20180429T160000
DTSTAMP:20260423T154413
CREATED:20180304T171121Z
LAST-MODIFIED:20180304T172154Z
UID:12056-1524996000-1525017600@www.baus.org
SUMMARY:The Triple Gem with Ven. Ven. Ekāyana
DESCRIPTION:April 29 • Woo Ju Memorial Library  \n10:00 – 11:30 The virtue of Sangha (Verse 10 – 11)  \n1:30 -2:20 Meditation  \n2:30 -3:30 The virtue in principle and practice (Verse 12)  \n3:30-4:00 Q&A
URL:https://www.baus.org/en/event/the-triple-gem-with-ven-ven-ekayana-3/
CATEGORIES:Woo Ju Memorial Library
END:VEVENT
BEGIN:VEVENT
DTSTART;TZID=America/New_York:20180429T093000
DTEND;TZID=America/New_York:20180429T110000
DTSTAMP:20260423T154413
CREATED:20180331T053342Z
LAST-MODIFIED:20180331T053342Z
UID:12419-1524994200-1524999600@www.baus.org
SUMMARY:Sunday am Meditation
DESCRIPTION:Join us for Sunday morning meditation\nLocation: Kuan Yin Hall
URL:https://www.baus.org/en/event/sunday-am-meditation-9/
CATEGORIES:Chuang Yen Monastery
END:VEVENT
BEGIN:VEVENT
DTSTART;TZID=America/New_York:20180422T100000
DTEND;TZID=America/New_York:20180422T160000
DTSTAMP:20260423T154413
CREATED:20180304T170920Z
LAST-MODIFIED:20180304T172106Z
UID:12054-1524391200-1524412800@www.baus.org
SUMMARY:The Triple Gem with Ven. Ven. Ekāyana
DESCRIPTION:April 22 • Woo Ju Memorial Library  \n10:00 – 11:30 The virtue of Buddha (Verse 5 – 7)  \n1:30 -2:20 Meditation  \n2:30 -3:30  The virtue of Dharma (Verse 8 – 9) \n3:30-4:00 Q&A
URL:https://www.baus.org/en/event/the-triple-gem-with-ven-ven-ekayana-2/
CATEGORIES:Woo Ju Memorial Library
END:VEVENT
END:VCALENDAR