BEGIN:VCALENDAR
VERSION:2.0
PRODID:-// - ECPv6.15.20//NONSGML v1.0//EN
CALSCALE:GREGORIAN
METHOD:PUBLISH
X-ORIGINAL-URL:https://www.baus.org/en
X-WR-CALDESC:Events for 
REFRESH-INTERVAL;VALUE=DURATION:PT1H
X-Robots-Tag:noindex
X-PUBLISHED-TTL:PT1H
BEGIN:VTIMEZONE
TZID:America/New_York
BEGIN:DAYLIGHT
TZOFFSETFROM:-0500
TZOFFSETTO:-0400
TZNAME:EDT
DTSTART:20180311T070000
END:DAYLIGHT
BEGIN:STANDARD
TZOFFSETFROM:-0400
TZOFFSETTO:-0500
TZNAME:EST
DTSTART:20181104T060000
END:STANDARD
BEGIN:DAYLIGHT
TZOFFSETFROM:-0500
TZOFFSETTO:-0400
TZNAME:EDT
DTSTART:20190310T070000
END:DAYLIGHT
BEGIN:STANDARD
TZOFFSETFROM:-0400
TZOFFSETTO:-0500
TZNAME:EST
DTSTART:20191103T060000
END:STANDARD
BEGIN:DAYLIGHT
TZOFFSETFROM:-0500
TZOFFSETTO:-0400
TZNAME:EDT
DTSTART:20200308T070000
END:DAYLIGHT
BEGIN:STANDARD
TZOFFSETFROM:-0400
TZOFFSETTO:-0500
TZNAME:EST
DTSTART:20201101T060000
END:STANDARD
BEGIN:DAYLIGHT
TZOFFSETFROM:-0500
TZOFFSETTO:-0400
TZNAME:EDT
DTSTART:20210314T070000
END:DAYLIGHT
BEGIN:STANDARD
TZOFFSETFROM:-0400
TZOFFSETTO:-0500
TZNAME:EST
DTSTART:20211107T060000
END:STANDARD
BEGIN:DAYLIGHT
TZOFFSETFROM:-0500
TZOFFSETTO:-0400
TZNAME:EDT
DTSTART:20220313T070000
END:DAYLIGHT
BEGIN:STANDARD
TZOFFSETFROM:-0400
TZOFFSETTO:-0500
TZNAME:EST
DTSTART:20221106T060000
END:STANDARD
BEGIN:DAYLIGHT
TZOFFSETFROM:-0500
TZOFFSETTO:-0400
TZNAME:EDT
DTSTART:20230312T070000
END:DAYLIGHT
BEGIN:STANDARD
TZOFFSETFROM:-0400
TZOFFSETTO:-0500
TZNAME:EST
DTSTART:20231105T060000
END:STANDARD
BEGIN:DAYLIGHT
TZOFFSETFROM:-0500
TZOFFSETTO:-0400
TZNAME:EDT
DTSTART:20240310T070000
END:DAYLIGHT
BEGIN:STANDARD
TZOFFSETFROM:-0400
TZOFFSETTO:-0500
TZNAME:EST
DTSTART:20241103T060000
END:STANDARD
BEGIN:DAYLIGHT
TZOFFSETFROM:-0500
TZOFFSETTO:-0400
TZNAME:EDT
DTSTART:20250309T070000
END:DAYLIGHT
BEGIN:STANDARD
TZOFFSETFROM:-0400
TZOFFSETTO:-0500
TZNAME:EST
DTSTART:20251102T060000
END:STANDARD
BEGIN:DAYLIGHT
TZOFFSETFROM:-0500
TZOFFSETTO:-0400
TZNAME:EDT
DTSTART:20260308T070000
END:DAYLIGHT
BEGIN:STANDARD
TZOFFSETFROM:-0400
TZOFFSETTO:-0500
TZNAME:EST
DTSTART:20261101T060000
END:STANDARD
BEGIN:DAYLIGHT
TZOFFSETFROM:-0500
TZOFFSETTO:-0400
TZNAME:EDT
DTSTART:20270314T070000
END:DAYLIGHT
BEGIN:STANDARD
TZOFFSETFROM:-0400
TZOFFSETTO:-0500
TZNAME:EST
DTSTART:20271107T060000
END:STANDARD
END:VTIMEZONE
BEGIN:VEVENT
DTSTART;TZID=America/New_York:20260101T100000
DTEND;TZID=America/New_York:20260101T120000
DTSTAMP:20260422T223647
CREATED:20251209T020132Z
LAST-MODIFIED:20251209T020212Z
UID:59450-1767261600-1767268800@www.baus.org
SUMMARY:2026 New Year’s Interfaith Prayer for World Peace
DESCRIPTION:We are pleased to invite you to attend “The New Year’s Interfaith Prayer for World Peace on New Year’s Day\, January 1\, 2026 (Thursday). Starting at 10:00 am in the Great Buddha Hall of Chuang-Yen Monastery. \n\n																														 \nStart your New Year with hope\, unity\, and blessings at this cherished tradition that has been held for over 30 years. The New Year’s Interfaith Prayer for World Peace is one of the most anticipated events of the year\, bringing together representatives from various faiths and organizations\, including Greymoor\, Maryknoll Council\, Judaism\, the United Nations NGO\, the Bahá’í Faith\, and more. Reconnect with old friends\, and warmly welcome new ones as we unite in prayers for world peace and share blessings with one another. Don’t miss this inspiring opportunity to embrace harmony and hope for the year ahead.\nPlease join us for inspiration from knowledgeable speakers and more…
URL:https://www.baus.org/en/event/2026-new-years-interfaith-prayer-for-world-peace/
LOCATION:Chuang Yen Mnastery\,  2020\, Route 301\, \, Carmel\, NY\, 10512\, United States
CATEGORIES:Chuang Yen Monastery
END:VEVENT
BEGIN:VEVENT
DTSTART;TZID=America/New_York:20251207T100000
DTEND;TZID=America/New_York:20251207T113000
DTSTAMP:20260422T223647
CREATED:20251124T170654Z
LAST-MODIFIED:20251124T172737Z
UID:59101-1765101600-1765107000@www.baus.org
SUMMARY:MIND & LIFE 12/07
DESCRIPTION:Register Here\n\n\n\n\n\n\n\n\n\n\n\n\n\n\n\n\n\nFeeling stressed or anxious in today’s fast-paced world?\nYou’re not alone. Join our Sunday Dharma Series\, open to people from all walks of life. Rooted in Buddhist psychology and inspired by Yogācāra insights\, this course offers practical ways to understand how the mind shapes our experiences and how we can transform it to cultivate calm\, clarity\, and compassion.   \nThrough dharma talks\, guided practices\, and group reflection –  \nwe’ll cover themes such as emotional balance\, relationships\, and cultivating inner peace in everyday life. \nNo prior background is required.\n \nJust remain curious and open-minded.\nCome discover practical tools for cultivating peace of mind\, healing stress\, and living with greater purpose. \n\n\n\n\n\n\n\n\n\n\n\n\n\n\n\n\n\n\n\nSundays · In English · All Welcome
URL:https://www.baus.org/en/event/mind-life-12-07/
LOCATION:Woo Ju Memorial Library\, 2020 Route 301\, Building 15\, Carmel\, \, NY\, 10512\, United States
CATEGORIES:Woo Ju Memorial Library
END:VEVENT
BEGIN:VEVENT
DTSTART;TZID=America/New_York:20251123T100000
DTEND;TZID=America/New_York:20251123T110000
DTSTAMP:20260422T223647
CREATED:20251124T171816Z
LAST-MODIFIED:20251124T171816Z
UID:59105-1763892000-1763895600@www.baus.org
SUMMARY:MIND & LIFE 11/23
DESCRIPTION:Feeling stressed or anxious in today’s fast-paced world?\nYou’re not alone. Join our Sunday Dharma Series\, open to people from all walks of life. Rooted in Buddhist psychology and inspired by Yogācāra insights\, this course offers practical ways to understand how the mind shapes our experiences and how we can transform it to cultivate calm\, clarity\, and compassion.   \nThrough dharma talks\, guided practices\, and group reflection –  \nwe’ll cover themes such as emotional balance\, relationships\, and cultivating inner peace in everyday life. \nNo prior background is required.\n \nJust remain curious and open-minded.\nCome discover practical tools for cultivating peace of mind\, healing stress\, and living with greater purpose.
URL:https://www.baus.org/en/event/mind-life-11-23/
LOCATION:Woo Ju Memorial Library\, 2020 Route 301\, Building 15\, Carmel\, \, NY\, 10512\, United States
CATEGORIES:Woo Ju Memorial Library
END:VEVENT
BEGIN:VEVENT
DTSTART;TZID=America/New_York:20251109T100000
DTEND;TZID=America/New_York:20251109T113000
DTSTAMP:20260422T223647
CREATED:20251125T093336Z
LAST-MODIFIED:20251125T093336Z
UID:59122-1762682400-1762687800@www.baus.org
SUMMARY:MIND & LIFE 11/09
DESCRIPTION:SundaysNovember 9November 23December 7 \n10am-11:30 amWoo Ju Memorial Library\n					\n									Register Here\n					 \nFeeling stressed or anxious in today’s fast-paced world? You’re not alone. Join our Sunday Dharma Series\, open to people from all walks of life. Rooted in Buddhist psychology and inspired by Yogācāra insights\, this course offers practical ways to understand how the mind shapes our experiences and how we can transform it to cultivate calm\, clarity\, and compassion.  \n  \nThrough dharma talks\, guided practices\, and group reflection –  \nwe’ll cover themes such as emotional balance\, relationships\, and cultivating inner peace in everyday life.  \n  \nNo prior background is required.  \nJust remain curious and open-minded. Come discover practical tools for cultivating peace of mind\, healing stress\, and living with greater purpose. \n																														 \nSundays · In English · All Welcome 
URL:https://www.baus.org/en/event/mind-life-11-09/
LOCATION:NY
CATEGORIES:Woo Ju Memorial Library
END:VEVENT
BEGIN:VEVENT
DTSTART;TZID=America/New_York:20191214T110000
DTEND;TZID=America/New_York:20191214T114500
DTSTAMP:20260422T223647
CREATED:20190322T000617Z
LAST-MODIFIED:20190524T042454Z
UID:13993-1576321200-1576323900@www.baus.org
SUMMARY:Buddhist Children's Story Time
DESCRIPTION:For ages 3 plus \nTo find out more and to Register visit:\nInformation and Registration
URL:https://www.baus.org/en/event/buddhist-childrens-story-time-2019-07-06-2019-07-20-2019-08-03-2019-12-07/
LOCATION:NY
CATEGORIES:Woo Ju Memorial Library
END:VEVENT
BEGIN:VEVENT
DTSTART;TZID=America/New_York:20191123T140000
DTEND;TZID=America/New_York:20191123T144500
DTSTAMP:20260422T223647
CREATED:20190322T000617Z
LAST-MODIFIED:20190524T042248Z
UID:13992-1574517600-1574520300@www.baus.org
SUMMARY:Buddhist Children's Story Time
DESCRIPTION:For ages 3 plus \nTo find out more and to Register visit:\nInformation and Registration
URL:https://www.baus.org/en/event/buddhist-childrens-story-time-2019-07-06-2019-07-20-2019-08-03-2019-11-23/
LOCATION:NY
CATEGORIES:Woo Ju Memorial Library
END:VEVENT
BEGIN:VEVENT
DTSTART;TZID=America/New_York:20191103T090000
DTEND;TZID=America/New_York:20191103T232000
DTSTAMP:20260422T223647
CREATED:20190925T030207Z
LAST-MODIFIED:20190925T030358Z
UID:14646-1572771600-1572823200@www.baus.org
SUMMARY:Sunday Meditation
DESCRIPTION:Kuan Yin Hall from 9:00 to 11:20\nSiyu Koswatta
URL:https://www.baus.org/en/event/sunday-meditation-2/
LOCATION:NY
CATEGORIES:Chuang Yen Monastery
END:VEVENT
BEGIN:VEVENT
DTSTART;TZID=America/New_York:20191027T140000
DTEND;TZID=America/New_York:20191027T160000
DTSTAMP:20260422T223647
CREATED:20190906T012238Z
LAST-MODIFIED:20190906T012238Z
UID:14605-1572184800-1572192000@www.baus.org
SUMMARY:The Way to Buddhahood Book Study Group
DESCRIPTION:https://www.baus.org/en/activities/woo-ju-memorial-library-activities/book-study-group/
URL:https://www.baus.org/en/event/the-way-to-buddhahood-book-study-group-5/
LOCATION:NY
CATEGORIES:Woo Ju Memorial Library
END:VEVENT
BEGIN:VEVENT
DTSTART;TZID=America/New_York:20191027T090000
DTEND;TZID=America/New_York:20191027T112000
DTSTAMP:20260422T223647
CREATED:20190925T025916Z
LAST-MODIFIED:20190925T025932Z
UID:14644-1572166800-1572175200@www.baus.org
SUMMARY:Sunday Meditation
DESCRIPTION:Kuan Yin Hall from 9:00 to 11:20\nBruce Kou
URL:https://www.baus.org/en/event/sunday-meditation/
LOCATION:NY
CATEGORIES:Chuang Yen Monastery
END:VEVENT
BEGIN:VEVENT
DTSTART;TZID=America/New_York:20191026T140000
DTEND;TZID=America/New_York:20191026T144500
DTSTAMP:20260422T223647
CREATED:20190322T000617Z
LAST-MODIFIED:20190524T042025Z
UID:13990-1572098400-1572101100@www.baus.org
SUMMARY:Buddhist Children's Story Time
DESCRIPTION:For ages 3 plus \nTo find out more and to Register visit:\nInformation and Registration
URL:https://www.baus.org/en/event/buddhist-childrens-story-time-2019-07-06-2019-07-20-2019-08-03-2019-10-26/
LOCATION:NY
CATEGORIES:Woo Ju Memorial Library
END:VEVENT
BEGIN:VEVENT
DTSTART;TZID=America/New_York:20191020T140000
DTEND;TZID=America/New_York:20191020T170000
DTSTAMP:20260422T223647
CREATED:20190819T005415Z
LAST-MODIFIED:20190819T005528Z
UID:14500-1571580000-1571590800@www.baus.org
SUMMARY:Lama Rod Owens
DESCRIPTION:Radical Dharma: Talking Race\, Love\, and Liberation
URL:https://www.baus.org/en/event/lama-rod-owens/
LOCATION:NY
CATEGORIES:Woo Ju Memorial Library
END:VEVENT
BEGIN:VEVENT
DTSTART;TZID=America/New_York:20191020T140000
DTEND;TZID=America/New_York:20191020T160000
DTSTAMP:20260422T223647
CREATED:20190906T011906Z
LAST-MODIFIED:20190906T011906Z
UID:14603-1571580000-1571587200@www.baus.org
SUMMARY:The Way to Buddhahood Book Study Group
DESCRIPTION:https://www.baus.org/en/activities/woo-ju-memorial-library-activities/book-study-group/
URL:https://www.baus.org/en/event/the-way-to-buddhahood-book-study-group-4/
LOCATION:NY
CATEGORIES:Woo Ju Memorial Library
END:VEVENT
BEGIN:VEVENT
DTSTART;TZID=America/New_York:20191013T100000
DTEND;TZID=America/New_York:20191013T120000
DTSTAMP:20260422T223647
CREATED:20190113T150104Z
LAST-MODIFIED:20190113T150104Z
UID:13358-1570960800-1570968000@www.baus.org
SUMMARY:Kuan-Yin Bodhisattva's Renunciation Ceremony
DESCRIPTION:
URL:https://www.baus.org/en/event/kuan-yin-bodhisattvas-renunciation-ceremony-3/
LOCATION:NY
CATEGORIES:Chuang Yen Monastery
END:VEVENT
BEGIN:VEVENT
DTSTART;TZID=America/New_York:20191012T110000
DTEND;TZID=America/New_York:20191012T114500
DTSTAMP:20260422T223647
CREATED:20190322T000617Z
LAST-MODIFIED:20190524T041851Z
UID:13989-1570878000-1570880700@www.baus.org
SUMMARY:Buddhist Children's Story Time
DESCRIPTION:For ages 3 plus \nTo find out more and to Register visit:\nInformation and Registration
URL:https://www.baus.org/en/event/buddhist-childrens-story-time-2019-07-06-2019-07-20-2019-08-03-2019-10-12/
LOCATION:NY
CATEGORIES:Woo Ju Memorial Library
END:VEVENT
BEGIN:VEVENT
DTSTART;TZID=America/New_York:20191012T100000
DTEND;TZID=America/New_York:20191012T120000
DTSTAMP:20260422T223647
CREATED:20190926T045731Z
LAST-MODIFIED:20190926T045950Z
UID:14655-1570874400-1570881600@www.baus.org
SUMMARY:TOE  Kuan Yin Renunciation Ceremony (10/12/2019)
DESCRIPTION:Bodhisattva’s Renunciation Ceremony honoring the Bodhisattva Kuan-Yin. Temple of Enlightenment\,\nin the Bronx\,10:00 a.m. to 12:00 noon.  \n3070 Albany Crescent\, Bronx\, NY 10463 \nTel:(718) 884-9111  Fax: (718)884-7894
URL:https://www.baus.org/en/event/toe-kuan-yin-renunciation-ceremony-10-12-2019/
LOCATION:NY
CATEGORIES:Temple of Enlightenment
END:VEVENT
BEGIN:VEVENT
DTSTART;TZID=America/New_York:20191012T100000
DTEND;TZID=America/New_York:20191012T120000
DTSTAMP:20260422T223647
CREATED:20190125T232118Z
LAST-MODIFIED:20190125T232118Z
UID:13446-1570874400-1570881600@www.baus.org
SUMMARY:TOE Kaun-Yin Bodhisattva's Renunciation Ceremony
DESCRIPTION:
URL:https://www.baus.org/en/event/toe-kaun-yin-bodhisattvas-renunciation-ceremony/
LOCATION:NY
CATEGORIES:Temple of Enlightenment
END:VEVENT
BEGIN:VEVENT
DTSTART;TZID=America/New_York:20191006T140000
DTEND;TZID=America/New_York:20191006T160000
DTSTAMP:20260422T223647
CREATED:20190906T011815Z
LAST-MODIFIED:20190906T011938Z
UID:14601-1570370400-1570377600@www.baus.org
SUMMARY:The Way to Buddhahood Book Study Group
DESCRIPTION:https://www.baus.org/en/activities/woo-ju-memorial-library-activities/book-study-group/
URL:https://www.baus.org/en/event/the-way-to-buddhahood-book-study-group-3/
LOCATION:NY
CATEGORIES:Woo Ju Memorial Library
END:VEVENT
BEGIN:VEVENT
DTSTART;TZID=America/New_York:20191006T013000
DTEND;TZID=America/New_York:20191006T163000
DTSTAMP:20260422T223647
CREATED:20190113T145919Z
LAST-MODIFIED:20190113T145919Z
UID:13356-1570325400-1570379400@www.baus.org
SUMMARY:Fall Ritual for the Deceased
DESCRIPTION:
URL:https://www.baus.org/en/event/fall-ritual-for-the-deceased-3/
LOCATION:NY
CATEGORIES:Chuang Yen Monastery
END:VEVENT
BEGIN:VEVENT
DTSTART;TZID=America/New_York:20191005T140000
DTEND;TZID=America/New_York:20191005T160000
DTSTAMP:20260422T223647
CREATED:20190705T033653Z
LAST-MODIFIED:20190705T033653Z
UID:14258-1570284000-1570291200@www.baus.org
SUMMARY:Rev. Dr. T. Kenjitsu Nakagaki
DESCRIPTION:The Buddhist Swastika and Hitler’s Cross\nRescuing a Peace Symbol from the Force of Hate
URL:https://www.baus.org/en/event/rev-dr-t-kenjitsu-nakagaki/
LOCATION:NY
CATEGORIES:Woo Ju Memorial Library
END:VEVENT
BEGIN:VEVENT
DTSTART;TZID=America/New_York:20190928T140000
DTEND;TZID=America/New_York:20190928T144500
DTSTAMP:20260422T223647
CREATED:20190322T000617Z
LAST-MODIFIED:20190524T041557Z
UID:13988-1569679200-1569681900@www.baus.org
SUMMARY:Buddhist Children's Story Time
DESCRIPTION:For ages 3 plus \nTo find out more and to Register visit:\nInformation and Registration
URL:https://www.baus.org/en/event/buddhist-childrens-story-time-2019-07-06-2019-07-20-2019-08-03-2019-09-28/
LOCATION:NY
CATEGORIES:Woo Ju Memorial Library
END:VEVENT
BEGIN:VEVENT
DTSTART;TZID=America/New_York:20190915T020000
DTEND;TZID=America/New_York:20190915T160000
DTSTAMP:20260422T223647
CREATED:20190626T045929Z
LAST-MODIFIED:20190906T011657Z
UID:14173-1568512800-1568563200@www.baus.org
SUMMARY:The Way to Buddhahood Book Study Group
DESCRIPTION:https://www.baus.org/en/activities/woo-ju-memorial-library-activities/book-study-group/
URL:https://www.baus.org/en/event/the-way-to-buddhahood-book-study-group-2/
LOCATION:NY
CATEGORIES:Woo Ju Memorial Library
END:VEVENT
BEGIN:VEVENT
DTSTART;TZID=America/New_York:20190914T160000
DTEND;TZID=America/New_York:20190914T203000
DTSTAMP:20260422T223647
CREATED:20190113T145629Z
LAST-MODIFIED:20190113T145629Z
UID:13354-1568476800-1568493000@www.baus.org
SUMMARY:Emperor Liang Repentance Ceremony
DESCRIPTION:
URL:https://www.baus.org/en/event/emperor-liang-repentance-ceremony-3/
LOCATION:NY
CATEGORIES:Chuang Yen Monastery
END:VEVENT
BEGIN:VEVENT
DTSTART;TZID=America/New_York:20190914T110000
DTEND;TZID=America/New_York:20190914T114500
DTSTAMP:20260422T223647
CREATED:20190322T000617Z
LAST-MODIFIED:20190524T041318Z
UID:13987-1568458800-1568461500@www.baus.org
SUMMARY:Buddhist Children's Story Time
DESCRIPTION:For ages 3 plus \nTo find out more and to Register visit:\nInformation and Registration
URL:https://www.baus.org/en/event/buddhist-childrens-story-time-2019-07-06-2019-07-20-2019-08-03-2019-09-14/
LOCATION:NY
CATEGORIES:Woo Ju Memorial Library
END:VEVENT
BEGIN:VEVENT
DTSTART;TZID=America/New_York:20190908T110000
DTEND;TZID=America/New_York:20190908T120000
DTSTAMP:20260422T223647
CREATED:20190906T010404Z
LAST-MODIFIED:20190906T010404Z
UID:14592-1567940400-1567944000@www.baus.org
SUMMARY:Beginner’s Chinese Conversation
DESCRIPTION:https://www.baus.org/en/activities/woo-ju-memorial-library-activities/beginners-chinese-class-level-1/
URL:https://www.baus.org/en/event/beginners-chinese-conversation/
LOCATION:NY
CATEGORIES:Woo Ju Memorial Library
END:VEVENT
BEGIN:VEVENT
DTSTART;TZID=America/New_York:20190824T090000
DTEND;TZID=America/New_York:20190824T160000
DTSTAMP:20260422T223647
CREATED:20190626T052404Z
LAST-MODIFIED:20190626T052755Z
UID:14183-1566637200-1566662400@www.baus.org
SUMMARY:A Course in the Anguttara Nikaya with Ven. Bhikkhu Bodhi
DESCRIPTION:The Anguttara Nikaya arranges discourses of the Buddha according to a numerical pattern\, grouping together suttas that revolve around the same number of items. This ongoing class starts at 9:00 am with a 50-minute silent meditation\, followed by a discussion of the suttas from 10:00 am to 11:20 am. \n* August 24th\, the meditation program will continue after the mid-day meal from 1 pm to 4 pm. with alternating sitting and walking meditation.
URL:https://www.baus.org/en/event/a-course-in-the-anguttara-nikaya-with-ven-bhikkhu-bodhi-34-2019-08-24/
LOCATION:NY
CATEGORIES:Chuang Yen Monastery
END:VEVENT
BEGIN:VEVENT
DTSTART;TZID=America/New_York:20190824T020000
DTEND;TZID=America/New_York:20190824T024500
DTSTAMP:20260422T223647
CREATED:20190322T000617Z
LAST-MODIFIED:20190524T041209Z
UID:13986-1566612000-1566614700@www.baus.org
SUMMARY:Buddhist Children's Story Time
DESCRIPTION:For ages 3 plus \nTo find out more and to Register visit:\nInformation and Registration
URL:https://www.baus.org/en/event/buddhist-childrens-story-time-2019-07-06-2019-07-20-2019-08-03-2019-08-31/
LOCATION:NY
CATEGORIES:Woo Ju Memorial Library
END:VEVENT
BEGIN:VEVENT
DTSTART;TZID=America/New_York:20190811T100000
DTEND;TZID=America/New_York:20190811T120000
DTSTAMP:20260422T223647
CREATED:20190113T145249Z
LAST-MODIFIED:20190113T145249Z
UID:13350-1565517600-1565524800@www.baus.org
SUMMARY:Ullambana Ceremony
DESCRIPTION:
URL:https://www.baus.org/en/event/ullambana-ceremony-2/
LOCATION:NY
CATEGORIES:Chuang Yen Monastery
END:VEVENT
BEGIN:VEVENT
DTSTART;TZID=America/New_York:20190810T100000
DTEND;TZID=America/New_York:20190810T100000
DTSTAMP:20260422T223647
CREATED:20190125T230346Z
LAST-MODIFIED:20190125T230440Z
UID:13442-1565431200-1565431200@www.baus.org
SUMMARY:The Ullambana Ceremony
DESCRIPTION:
URL:https://www.baus.org/en/event/the-ullambana-ceremony-5/
LOCATION:NY
CATEGORIES:Temple of Enlightenment
END:VEVENT
BEGIN:VEVENT
DTSTART;TZID=America/New_York:20190727T140000
DTEND;TZID=America/New_York:20190727T144500
DTSTAMP:20260422T223647
CREATED:20190322T000617Z
LAST-MODIFIED:20190524T040243Z
UID:13930-1564236000-1564238700@www.baus.org
SUMMARY:Buddhist Children's Story Time
DESCRIPTION:For ages 3 plus \nTo find out more and to Register visit:\nInformation and Registration
URL:https://www.baus.org/en/event/buddhist-childrens-story-time-2019-07-06-2019-07-20/
LOCATION:NY
CATEGORIES:Woo Ju Memorial Library
END:VEVENT
BEGIN:VEVENT
DTSTART;TZID=America/New_York:20190727T090000
DTEND;TZID=America/New_York:20190727T160000
DTSTAMP:20260422T223647
CREATED:20190626T052404Z
LAST-MODIFIED:20190626T052624Z
UID:14179-1564218000-1564243200@www.baus.org
SUMMARY:A Course in the Anguttara Nikaya with Ven. Bhikkhu Bodhi
DESCRIPTION:The Anguttara Nikaya arranges discourses of the Buddha according to a numerical pattern\, grouping together suttas that revolve around the same number of items. This ongoing class starts at 9:00 am with a 50-minute silent meditation\, followed by a discussion of the suttas from 10:00 am to 11:20 am. \nOn July 27th \, the meditation program will continue after the mid-day meal from 1 pm to 4 pm. with alternating sitting and walking meditation.
URL:https://www.baus.org/en/event/a-course-in-the-anguttara-nikaya-with-ven-bhikkhu-bodhi-34-2019-07-27/
LOCATION:NY
CATEGORIES:Chuang Yen Monastery
END:VEVENT
END:VCALENDAR