BEGIN:VCALENDAR
VERSION:2.0
PRODID:-// - ECPv6.15.20//NONSGML v1.0//EN
CALSCALE:GREGORIAN
METHOD:PUBLISH
X-ORIGINAL-URL:https://www.baus.org/en
X-WR-CALDESC:Events for 
REFRESH-INTERVAL;VALUE=DURATION:PT1H
X-Robots-Tag:noindex
X-PUBLISHED-TTL:PT1H
BEGIN:VTIMEZONE
TZID:America/New_York
BEGIN:DAYLIGHT
TZOFFSETFROM:-0500
TZOFFSETTO:-0400
TZNAME:EDT
DTSTART:20160313T070000
END:DAYLIGHT
BEGIN:STANDARD
TZOFFSETFROM:-0400
TZOFFSETTO:-0500
TZNAME:EST
DTSTART:20161106T060000
END:STANDARD
BEGIN:DAYLIGHT
TZOFFSETFROM:-0500
TZOFFSETTO:-0400
TZNAME:EDT
DTSTART:20170312T070000
END:DAYLIGHT
BEGIN:STANDARD
TZOFFSETFROM:-0400
TZOFFSETTO:-0500
TZNAME:EST
DTSTART:20171105T060000
END:STANDARD
BEGIN:DAYLIGHT
TZOFFSETFROM:-0500
TZOFFSETTO:-0400
TZNAME:EDT
DTSTART:20180311T070000
END:DAYLIGHT
BEGIN:STANDARD
TZOFFSETFROM:-0400
TZOFFSETTO:-0500
TZNAME:EST
DTSTART:20181104T060000
END:STANDARD
END:VTIMEZONE
BEGIN:VEVENT
DTSTART;TZID=America/New_York:20170716T100000
DTEND;TZID=America/New_York:20170716T110000
DTSTAMP:20260423T211327
CREATED:20170314T190833Z
LAST-MODIFIED:20170509T013121Z
UID:8940-1500199200-1500202800@www.baus.org
SUMMARY:Madhyamika Book Study Group
DESCRIPTION:Studying Nãgãrjuna’s Middle Way \nSundays 10-11 am • in the Great Buddha Hall
URL:https://www.baus.org/en/event/madhyamika-book-study-group-4/
LOCATION:NY
CATEGORIES:Chuang Yen Monastery
END:VEVENT
BEGIN:VEVENT
DTSTART;TZID=America/New_York:20170715T090000
DTEND;TZID=America/New_York:20170715T090000
DTSTAMP:20260423T211327
CREATED:20170526T124951Z
LAST-MODIFIED:20170526T125358Z
UID:9755-1500109200-1500109200@www.baus.org
SUMMARY:The Numerical Discourses of the Buddha  A Course in the Anguttara Nikaya with Ven. Bhikkhu Bodhi
DESCRIPTION:The Anguttara Nikaya arranges discourses of the Buddha according to a numerical pattern\, grouping together suttas that revolve around the same number of items\, from “The Ones” to “The Elevens.” The class starts at 9:00 am with a 50-minute silent meditation. This is followed by a discussion of the suttas from 10:00 am to 11:20 am.
URL:https://www.baus.org/en/event/the-numerical-discourses-of-the-buddha-a-course-in-the-anguttara-nikaya-with-ven-bhikkhu-bodhi-4/
LOCATION:NY
CATEGORIES:Chuang Yen Monastery
END:VEVENT
BEGIN:VEVENT
DTSTART;TZID=America/New_York:20170709T100000
DTEND;TZID=America/New_York:20170709T120000
DTSTAMP:20260423T211327
CREATED:20170103T043520Z
LAST-MODIFIED:20170305T033345Z
UID:8440-1499594400-1499601600@www.baus.org
SUMMARY:Kuan-Yin Bodhisattva’s Enlightenment Ceremony (CYM)
DESCRIPTION:Kuan-Yin Bodhisattva’s Enlightenment Ceremony \n10:00am to 12:00pm \n觀音菩薩成道紀念法會
URL:https://www.baus.org/en/event/kuan-yin-bodhisattvas-enlightenment-ceremony/
LOCATION:Chuang Yen Mnastery\,  2020\, Route 301\, \, Carmel\, NY\, 10512\, United States
CATEGORIES:Chuang Yen Monastery
END:VEVENT
BEGIN:VEVENT
DTSTART;TZID=America/New_York:20170708T090000
DTEND;TZID=America/New_York:20170708T232000
DTSTAMP:20260423T211327
CREATED:20170526T124809Z
LAST-MODIFIED:20170526T124809Z
UID:9753-1499504400-1499556000@www.baus.org
SUMMARY:The Numerical Discourses of the Buddha  A Course in the Anguttara Nikaya with Ven. Bhikkhu Bodhi
DESCRIPTION:  \n \nThe Anguttara Nikaya arranges discourses of the Buddha according to a numerical pattern\, grouping together suttas that revolve around the same number of items\, from “The Ones” to “The Elevens.” The class starts at 9:00 am with a 50-minute silent meditation. This is followed by a discussion of the suttas from 10:00 am to 11:20 am.
URL:https://www.baus.org/en/event/the-numerical-discourses-of-the-buddha-a-course-in-the-anguttara-nikaya-with-ven-bhikkhu-bodhi-3/
LOCATION:NY
CATEGORIES:Chuang Yen Monastery
END:VEVENT
BEGIN:VEVENT
DTSTART;TZID=America/New_York:20170624T090000
DTEND;TZID=America/New_York:20170624T112000
DTSTAMP:20260423T211327
CREATED:20170314T175419Z
LAST-MODIFIED:20170526T122000Z
UID:8930-1498294800-1498303200@www.baus.org
SUMMARY:A Course in the Anguttara Nikaya with Ven. Bhikkhu Bodhi
DESCRIPTION:Studying the Buddha’s Words\nThe Numerical Discourses of the Buddha: The Ones\nThe Anguttara Nikaya arranges discourses of the Buddha according to a numerical pattern\, grouping together suttas that revolve around the same number of items\, from “The Ones” to “The Elevens.” This first series on the Anguttara examines the entire chapter on the Ones—a short chapter that nevertheless covers many important themes in the Buddha’s teaching. The class starts at 9:00 am with a 50-minute silent meditation. This is followed by a discussion of the suttas from 10:00 am to 11:20 am. The approach in this class is more informal and conversational than in the previous class on the Majjhima Nikaya. Since the suttas in the Ones are very short\, only the dates are given\, not the names or topics of the suttas. \nLocation: Chuang Yen Monastery\, 2020 Route 301\, Carmel\, NY 10512\, in the Woo Ju Library.
URL:https://www.baus.org/en/event/a-course-in-the-anguttara-nikaya-with-ven-bhikkhu-bodhi-8/
LOCATION:NY
CATEGORIES:Chuang Yen Monastery
ATTACH;FMTTYPE=image/jpeg:https://www.baus.org/en/wp-content/uploads/2017/03/BB-2017-04-07-Anguttara_e.jpg
END:VEVENT
BEGIN:VEVENT
DTSTART;TZID=America/New_York:20170618T100000
DTEND;TZID=America/New_York:20170618T110000
DTSTAMP:20260423T211327
CREATED:20170314T190511Z
LAST-MODIFIED:20170509T013243Z
UID:8936-1497780000-1497783600@www.baus.org
SUMMARY:Madhyamika Book Study Group
DESCRIPTION:Studying  Nãgãrjuna’s Middle Way \nSundays 10-11 am • in the Great Buddha Hall
URL:https://www.baus.org/en/event/madhyamika-book-study-group-3/
LOCATION:NY
CATEGORIES:Chuang Yen Monastery
END:VEVENT
BEGIN:VEVENT
DTSTART;TZID=America/New_York:20170617T090000
DTEND;TZID=America/New_York:20170617T112000
DTSTAMP:20260423T211327
CREATED:20170314T174344Z
LAST-MODIFIED:20170509T013154Z
UID:8928-1497690000-1497698400@www.baus.org
SUMMARY:A Course in the Anguttara Nikaya with Ven. Bhikkhu Bodhi
DESCRIPTION:Studying the Buddha’s Words\nThe Numerical Discourses of the Buddha: The Ones\nThe Anguttara Nikaya arranges discourses of the Buddha according to a numerical pattern\, grouping together suttas that revolve around the same number of items\, from “The Ones” to “The Elevens.” This first series on the Anguttara examines the entire chapter on the Ones—a short chapter that nevertheless covers many important themes in the Buddha’s teaching. The class starts at 9:00 am with a 50-minute silent meditation. This is followed by a discussion of the suttas from 10:00 am to 11:20 am. The approach in this class is more informal and conversational than in the previous class on the Majjhima Nikaya. Since the suttas in the Ones are very short\, only the dates are given\, not the names or topics of the suttas. \nLocation: Chuang Yen Monastery\, 2020 Route 301\, Carmel\, NY 10512\, in the Woo Ju Library.
URL:https://www.baus.org/en/event/a-course-in-the-anguttara-nikaya-with-ven-bhikkhu-bodhi-7/
LOCATION:NY
CATEGORIES:Chuang Yen Monastery
ATTACH;FMTTYPE=image/jpeg:https://www.baus.org/en/wp-content/uploads/2017/03/BB-2017-04-07-Anguttara_e.jpg
END:VEVENT
BEGIN:VEVENT
DTSTART;TZID=America/New_York:20170611T100000
DTEND;TZID=America/New_York:20170611T100000
DTSTAMP:20260423T211327
CREATED:20170314T190043Z
LAST-MODIFIED:20170509T013205Z
UID:8934-1497175200-1497175200@www.baus.org
SUMMARY:Madhyamika Book Study Group
DESCRIPTION:Studying Nãgãrjuna’s Middle Way \nSundays 10-11 am • in the Great Buddha Hall
URL:https://www.baus.org/en/event/madhyamika-book-study-group-2/
LOCATION:NY
CATEGORIES:Chuang Yen Monastery
END:VEVENT
BEGIN:VEVENT
DTSTART;TZID=America/New_York:20170604T080000
DTEND;TZID=America/New_York:20170604T170000
DTSTAMP:20260423T211327
CREATED:20170103T043142Z
LAST-MODIFIED:20170305T033413Z
UID:8436-1496563200-1496595600@www.baus.org
SUMMARY:BAUS Annual General Meeting
DESCRIPTION:BAUS Annual General Meeting \n(BAUS Member Only) \n美國佛教會年度會員大會
URL:https://www.baus.org/en/event/baus-annual-general-meeting/
LOCATION:NY
CATEGORIES:Chuang Yen Monastery
END:VEVENT
BEGIN:VEVENT
DTSTART;TZID=America/New_York:20170603T090000
DTEND;TZID=America/New_York:20170603T112000
DTSTAMP:20260423T211327
CREATED:20170314T174231Z
LAST-MODIFIED:20170509T013259Z
UID:8926-1496480400-1496488800@www.baus.org
SUMMARY:A Course in the Anguttara Nikaya with Ven. Bhikkhu Bodhi
DESCRIPTION:Studying the Buddha’s Words\nThe Numerical Discourses of the Buddha: The Ones\nThe Anguttara Nikaya arranges discourses of the Buddha according to a numerical pattern\, grouping together suttas that revolve around the same number of items\, from “The Ones” to “The Elevens.” This first series on the Anguttara examines the entire chapter on the Ones—a short chapter that nevertheless covers many important themes in the Buddha’s teaching. The class starts at 9:00 am with a 50-minute silent meditation. This is followed by a discussion of the suttas from 10:00 am to 11:20 am. The approach in this class is more informal and conversational than in the previous class on the Majjhima Nikaya. Since the suttas in the Ones are very short\, only the dates are given\, not the names or topics of the suttas. \nLocation: Chuang Yen Monastery\, 2020 Route 301\, Carmel\, NY 10512\, in the Woo Ju Library.
URL:https://www.baus.org/en/event/a-course-in-the-anguttara-nikaya-with-ven-bhikkhu-bodhi-6/
LOCATION:NY
CATEGORIES:Chuang Yen Monastery
ATTACH;FMTTYPE=image/jpeg:https://www.baus.org/en/wp-content/uploads/2017/03/BB-2017-04-07-Anguttara_e.jpg
END:VEVENT
BEGIN:VEVENT
DTSTART;TZID=America/New_York:20170521T100000
DTEND;TZID=America/New_York:20170521T110000
DTSTAMP:20260423T211327
CREATED:20170314T185858Z
LAST-MODIFIED:20170509T013324Z
UID:8932-1495360800-1495364400@www.baus.org
SUMMARY:Madhyamika Book Study Group
DESCRIPTION:Studying Nãgãrjuna’s Middle Way \nSundays 10-11 am • in the Great Buddha Hall
URL:https://www.baus.org/en/event/madhyamika-book-study-group/
LOCATION:NY
CATEGORIES:Chuang Yen Monastery
END:VEVENT
BEGIN:VEVENT
DTSTART;TZID=America/New_York:20170520T090000
DTEND;TZID=America/New_York:20170520T112000
DTSTAMP:20260423T211327
CREATED:20170314T174055Z
LAST-MODIFIED:20170509T013342Z
UID:8924-1495270800-1495279200@www.baus.org
SUMMARY:A Course in the Anguttara Nikaya with Ven. Bhikkhu Bodhi
DESCRIPTION:Studying the Buddha’s Words\nThe Numerical Discourses of the Buddha: The Ones\nThe Anguttara Nikaya arranges discourses of the Buddha according to a numerical pattern\, grouping together suttas that revolve around the same number of items\, from “The Ones” to “The Elevens.” This first series on the Anguttara examines the entire chapter on the Ones—a short chapter that nevertheless covers many important themes in the Buddha’s teaching. The class starts at 9:00 am with a 50-minute silent meditation. This is followed by a discussion of the suttas from 10:00 am to 11:20 am. The approach in this class is more informal and conversational than in the previous class on the Majjhima Nikaya. Since the suttas in the Ones are very short\, only the dates are given\, not the names or topics of the suttas. \nLocation: Chuang Yen Monastery\, 2020 Route 301\, Carmel\, NY 10512\, in the Woo Ju Library.
URL:https://www.baus.org/en/event/a-course-in-the-anguttara-nikaya-with-ven-bhikkhu-bodhi-5/
LOCATION:NY
CATEGORIES:Chuang Yen Monastery
ATTACH;FMTTYPE=image/jpeg:https://www.baus.org/en/wp-content/uploads/2017/03/BB-2017-04-07-Anguttara_e.jpg
END:VEVENT
BEGIN:VEVENT
DTSTART;TZID=America/New_York:20170514T100000
DTEND;TZID=America/New_York:20170514T150000
DTSTAMP:20260423T211327
CREATED:20170103T042454Z
LAST-MODIFIED:20170305T033433Z
UID:8431-1494756000-1494774000@www.baus.org
SUMMARY:Buddha’s Birthday and Mother’s Day Garden Party
DESCRIPTION:Buddha’s Birthday\, and \nMother’s Day Garden Party \n10:00am to 3:00pm \n浴佛法會暨母親節園遊會
URL:https://www.baus.org/en/event/buddhas-birthday-and-mothers-day-garden-party/
LOCATION:Chuang Yen Mnastery\,  2020\, Route 301\, \, Carmel\, NY\, 10512\, United States
CATEGORIES:Chuang Yen Monastery
END:VEVENT
BEGIN:VEVENT
DTSTART;TZID=America/New_York:20170513T090000
DTEND;TZID=America/New_York:20170513T112000
DTSTAMP:20260423T211327
CREATED:20170314T173759Z
LAST-MODIFIED:20170509T013355Z
UID:8922-1494666000-1494674400@www.baus.org
SUMMARY:A Course in the Anguttara Nikaya with Ven. Bhikkhu Bodhi
DESCRIPTION:Studying the Buddha’s Words\nThe Numerical Discourses of the Buddha: The Ones\nThe Anguttara Nikaya arranges discourses of the Buddha according to a numerical pattern\, grouping together suttas that revolve around the same number of items\, from “The Ones” to “The Elevens.” This first series on the Anguttara examines the entire chapter on the Ones—a short chapter that nevertheless covers many important themes in the Buddha’s teaching. The class starts at 9:00 am with a 50-minute silent meditation. This is followed by a discussion of the suttas from 10:00 am to 11:20 am. The approach in this class is more informal and conversational than in the previous class on the Majjhima Nikaya. Since the suttas in the Ones are very short\, only the dates are given\, not the names or topics of the suttas. \nLocation: Chuang Yen Monastery\, 2020 Route 301\, Carmel\, NY 10512\, in the Woo Ju Library.
URL:https://www.baus.org/en/event/a-course-in-the-anguttara-nikaya-with-ven-bhikkhu-bodhi-4/
LOCATION:NY
CATEGORIES:Chuang Yen Monastery
ATTACH;FMTTYPE=image/jpeg:https://www.baus.org/en/wp-content/uploads/2017/03/BB-2017-04-07-Anguttara_e.jpg
END:VEVENT
BEGIN:VEVENT
DTSTART;TZID=America/New_York:20170507T133000
DTEND;TZID=America/New_York:20170507T160000
DTSTAMP:20260423T211327
CREATED:20170103T042233Z
LAST-MODIFIED:20170305T033136Z
UID:8429-1494163800-1494172800@www.baus.org
SUMMARY:Spring Ritual For The Deceased
DESCRIPTION:Spring Ritual For The Deceased \n1:30pm to 4:00pm \n春季祭祀安靈法會
URL:https://www.baus.org/en/event/spring-ritual-for-the-deceased/
LOCATION:Chuang Yen Mnastery\,  2020\, Route 301\, \, Carmel\, NY\, 10512\, United States
CATEGORIES:Chuang Yen Monastery
END:VEVENT
BEGIN:VEVENT
DTSTART;TZID=America/New_York:20170430T090000
DTEND;TZID=America/New_York:20170430T170000
DTSTAMP:20260423T211327
CREATED:20170304T071421Z
LAST-MODIFIED:20170305T033127Z
UID:8834-1493542800-1493571600@www.baus.org
SUMMARY:Spring 1 Day Meditation Retreat with David Listen (CYM)
DESCRIPTION:
URL:https://www.baus.org/en/event/spring-1-day-meditation-retreat-with-david-listen/
LOCATION:Chuang Yen Mnastery\,  2020\, Route 301\, \, Carmel\, NY\, 10512\, United States
CATEGORIES:Chuang Yen Monastery
END:VEVENT
BEGIN:VEVENT
DTSTART;TZID=America/New_York:20170426T100000
DTEND;TZID=America/New_York:20170426T150000
DTSTAMP:20260423T211327
CREATED:20170304T074702Z
LAST-MODIFIED:20170305T033117Z
UID:8848-1493200800-1493218800@www.baus.org
SUMMARY:Wednesday Tai Chi & Meditation (CYM)
DESCRIPTION:
URL:https://www.baus.org/en/event/wednesday-tai-chi-meditation-2/
LOCATION:Chuang Yen Mnastery\,  2020\, Route 301\, \, Carmel\, NY\, 10512\, United States
CATEGORIES:Chuang Yen Monastery
END:VEVENT
BEGIN:VEVENT
DTSTART;TZID=America/New_York:20170423T090000
DTEND;TZID=America/New_York:20170423T110000
DTSTAMP:20260423T211327
CREATED:20170304T070832Z
LAST-MODIFIED:20170401T184934Z
UID:8830-1492938000-1492945200@www.baus.org
SUMMARY:Sunday Morning Meditation (CYM)
DESCRIPTION:Dharma Talk and Meditation with Ms. YI Hsin Chen
URL:https://www.baus.org/en/event/sunday-morning-meditation-2/
LOCATION:Chuang Yen Mnastery\,  2020\, Route 301\, \, Carmel\, NY\, 10512\, United States
CATEGORIES:Chuang Yen Monastery
END:VEVENT
BEGIN:VEVENT
DTSTART;TZID=America/New_York:20170422T090000
DTEND;TZID=America/New_York:20170422T112000
DTSTAMP:20260423T211327
CREATED:20170314T173602Z
LAST-MODIFIED:20170509T013417Z
UID:8920-1492851600-1492860000@www.baus.org
SUMMARY:A Course in the Anguttara Nikaya with Ven. Bhikkhu Bodhi
DESCRIPTION:Studying the Buddha’s Words\nThe Numerical Discourses of the Buddha: The Ones\nThe Anguttara Nikaya arranges discourses of the Buddha according to a numerical pattern\, grouping together suttas that revolve around the same number of items\, from “The Ones” to “The Elevens.” This first series on the Anguttara examines the entire chapter on the Ones—a short chapter that nevertheless covers many important themes in the Buddha’s teaching. The class starts at 9:00 am with a 50-minute silent meditation. This is followed by a discussion of the suttas from 10:00 am to 11:20 am. The approach in this class is more informal and conversational than in the previous class on the Majjhima Nikaya. Since the suttas in the Ones are very short\, only the dates are given\, not the names or topics of the suttas. \nLocation: Chuang Yen Monastery\, 2020 Route 301\, Carmel\, NY 10512\, in the Woo Ju Library.
URL:https://www.baus.org/en/event/a-course-in-the-anguttara-nikaya-with-ven-bhikkhu-bodhi-3/
LOCATION:NY
CATEGORIES:Chuang Yen Monastery
ATTACH;FMTTYPE=image/jpeg:https://www.baus.org/en/wp-content/uploads/2017/03/BB-2017-04-07-Anguttara_e.jpg
END:VEVENT
BEGIN:VEVENT
DTSTART;TZID=America/New_York:20170419T100000
DTEND;TZID=America/New_York:20170419T150000
DTSTAMP:20260423T211327
CREATED:20170304T073948Z
LAST-MODIFIED:20170305T032955Z
UID:8846-1492596000-1492614000@www.baus.org
SUMMARY:Wednesday Tai Chi & Meditation (CYM)
DESCRIPTION:
URL:https://www.baus.org/en/event/wednesday-tai-chi-meditation-cym-2/
LOCATION:Chuang Yen Mnastery\,  2020\, Route 301\, \, Carmel\, NY\, 10512\, United States
CATEGORIES:Chuang Yen Monastery
END:VEVENT
BEGIN:VEVENT
DTSTART;TZID=America/New_York:20170416T090000
DTEND;TZID=America/New_York:20170416T110000
DTSTAMP:20260423T211327
CREATED:20170304T070524Z
LAST-MODIFIED:20170407T210653Z
UID:8826-1492333200-1492340400@www.baus.org
SUMMARY:Sunday Morning Meditation (CYM)
DESCRIPTION:CANCELED
URL:https://www.baus.org/en/event/spring-1-day-meditation-with-david-listen/
LOCATION:Chuang Yen Mnastery\,  2020\, Route 301\, \, Carmel\, NY\, 10512\, United States
CATEGORIES:Chuang Yen Monastery
END:VEVENT
BEGIN:VEVENT
DTSTART;TZID=America/New_York:20170415T090000
DTEND;TZID=America/New_York:20170415T112000
DTSTAMP:20260423T211327
CREATED:20170314T173407Z
LAST-MODIFIED:20170509T013423Z
UID:8918-1492246800-1492255200@www.baus.org
SUMMARY:A Course in the Anguttara Nikaya with Ven. Bhikkhu Bodhi
DESCRIPTION:Studying the Buddha’s Words\nThe Numerical Discourses of the Buddha: The Ones\nThe Anguttara Nikaya arranges discourses of the Buddha according to a numerical pattern\, grouping together suttas that revolve around the same number of items\, from “The Ones” to “The Elevens.” This first series on the Anguttara examines the entire chapter on the Ones—a short chapter that nevertheless covers many important themes in the Buddha’s teaching. The class starts at 9:00 am with a 50-minute silent meditation. This is followed by a discussion of the suttas from 10:00 am to 11:20 am. The approach in this class is more informal and conversational than in the previous class on the Majjhima Nikaya. Since the suttas in the Ones are very short\, only the dates are given\, not the names or topics of the suttas. \nLocation: Chuang Yen Monastery\, 2020 Route 301\, Carmel\, NY 10512\, in the Woo Ju Library.
URL:https://www.baus.org/en/event/a-course-in-the-anguttara-nikaya-with-ven-bhikkhu-bodhi-2/
LOCATION:NY
CATEGORIES:Chuang Yen Monastery
ATTACH;FMTTYPE=image/jpeg:https://www.baus.org/en/wp-content/uploads/2017/03/BB-2017-04-07-Anguttara_e.jpg
END:VEVENT
BEGIN:VEVENT
DTSTART;TZID=America/New_York:20170412T100000
DTEND;TZID=America/New_York:20170412T150000
DTSTAMP:20260423T211327
CREATED:20170304T072745Z
LAST-MODIFIED:20170305T032937Z
UID:8839-1491991200-1492009200@www.baus.org
SUMMARY:Wednesday Tai Chi & Meditation (CYM)
DESCRIPTION:
URL:https://www.baus.org/en/event/wednesday-tai-chi-meditation-cym/
LOCATION:Chuang Yen Mnastery\,  2020\, Route 301\, \, Carmel\, NY\, 10512\, United States
CATEGORIES:Chuang Yen Monastery
END:VEVENT
BEGIN:VEVENT
DTSTART;TZID=America/New_York:20170409T140000
DTEND;TZID=America/New_York:20170409T180000
DTSTAMP:20260423T211327
CREATED:20170406T203852Z
LAST-MODIFIED:20170406T204144Z
UID:9453-1491746400-1491760800@www.baus.org
SUMMARY:April 9 2-6 PM Meditation with Ven. Suddhaso
DESCRIPTION:Please join us in Welcoming Suddhaso Bhikkhu from the Bhavanna Society\,  a Theraveda Monastery in West Virginia. \nWhen: April 9th\, 2:00 – 6:00 pm & June 21th\, 9:00 – 5:00 pm \nPlace: Kuan-Yin Hall \nContact: (845) 225 -1819;  cym@baus.org
URL:https://www.baus.org/en/event/april-9-2-6-pm-meditation-with-ven-suddhaso/
LOCATION:NY
CATEGORIES:Chuang Yen Monastery
END:VEVENT
BEGIN:VEVENT
DTSTART;TZID=America/New_York:20170405T100000
DTEND;TZID=America/New_York:20170405T150000
DTSTAMP:20260423T211327
CREATED:20170304T072344Z
LAST-MODIFIED:20170305T032911Z
UID:8836-1491386400-1491404400@www.baus.org
SUMMARY:Wednesday Tai Chi & Meditation (CYM)
DESCRIPTION:10:00 am – 10:40 am Tai Chi (Instructor: Shifu Alex Lamas) \n10:50 am – 11:30 am Kung Fu (Instructor: Shifu Alex Lamas) \n11:30 am – 01:00 pm Lunch / Break Time \n12:20 pm – 01:00 pm Sleeping Meditation (optional) (Instructor: Shifu Alex Lamas or Guest Instructor) \n01:00 pm – 01:45 pm Meditation  (Instructor: Shifu Alex Lamas or Guest Instructor) \n02:00 pm – 02:45 pm Dharma Talk (Abbot Ven. Hui Cong)
URL:https://www.baus.org/en/event/wednesday-tai-chi-meditation/
LOCATION:Chuang Yen Mnastery\,  2020\, Route 301\, \, Carmel\, NY\, 10512\, United States
CATEGORIES:Chuang Yen Monastery
END:VEVENT
BEGIN:VEVENT
DTSTART;TZID=America/New_York:20170402T093000
DTEND;TZID=America/New_York:20170402T170000
DTSTAMP:20260423T211327
CREATED:20161130T055709Z
LAST-MODIFIED:20170329T231839Z
UID:7497-1491125400-1491152400@www.baus.org
SUMMARY:QinMing Ceremony (CYM)
DESCRIPTION:9:30am to 5:00pm \nQinMing Ceremony 清明法會\, \nThrice Memorial Ceremony 啟建三時繫念淨業道場
URL:https://www.baus.org/en/event/qin-ming-ceremony/
LOCATION:Chuang Yen Mnastery\,  2020\, Route 301\, \, Carmel\, NY\, 10512\, United States
CATEGORIES:Chuang Yen Monastery
ATTACH;FMTTYPE=image/jpeg:https://www.baus.org/en/wp-content/uploads/2016/11/chanting_venerables_1024.jpg
END:VEVENT
BEGIN:VEVENT
DTSTART;VALUE=DATE:20170128
DTEND;VALUE=DATE:20170129
DTSTAMP:20260423T211327
CREATED:20161130T055540Z
LAST-MODIFIED:20170304T213637Z
UID:7495-1485561600-1485647999@www.baus.org
SUMMARY:Chinese Lunar New Year Blessing Ceremony (CYM)
DESCRIPTION:Chinese Lunar New Year Blessing Ceremony \n新春祈福法會
URL:https://www.baus.org/en/event/chinese-lunar-new-year-blessing-ceremony/
LOCATION:Chuang Yen Mnastery\,  2020\, Route 301\, \, Carmel\, NY\, 10512\, United States
CATEGORIES:Chuang Yen Monastery
ATTACH;FMTTYPE=image/jpeg:https://www.baus.org/en/wp-content/uploads/2016/11/ChineseNewYearBlessingCeremony_2017_960x744.jpg
END:VEVENT
BEGIN:VEVENT
DTSTART;TZID=America/New_York:20170101T100000
DTEND;TZID=America/New_York:20170101T120000
DTSTAMP:20260423T211327
CREATED:20161130T055414Z
LAST-MODIFIED:20170304T213630Z
UID:7493-1483264800-1483272000@www.baus.org
SUMMARY:Interfaith Prayer
DESCRIPTION:Interfaith Prayer \n各宗教聯合祈禱世界和平法會
URL:https://www.baus.org/en/event/interfaith-prayer/
LOCATION:NY
CATEGORIES:Chuang Yen Monastery
ATTACH;FMTTYPE=image/jpeg:https://www.baus.org/en/wp-content/uploads/2016/11/cym_event_interfaith_1024.jpg
END:VEVENT
END:VCALENDAR