BEGIN:VCALENDAR
VERSION:2.0
PRODID:-// - ECPv6.15.20//NONSGML v1.0//EN
CALSCALE:GREGORIAN
METHOD:PUBLISH
X-ORIGINAL-URL:https://www.baus.org/en
X-WR-CALDESC:Events for 
REFRESH-INTERVAL;VALUE=DURATION:PT1H
X-Robots-Tag:noindex
X-PUBLISHED-TTL:PT1H
BEGIN:VTIMEZONE
TZID:America/New_York
BEGIN:DAYLIGHT
TZOFFSETFROM:-0500
TZOFFSETTO:-0400
TZNAME:EDT
DTSTART:20170312T070000
END:DAYLIGHT
BEGIN:STANDARD
TZOFFSETFROM:-0400
TZOFFSETTO:-0500
TZNAME:EST
DTSTART:20171105T060000
END:STANDARD
BEGIN:DAYLIGHT
TZOFFSETFROM:-0500
TZOFFSETTO:-0400
TZNAME:EDT
DTSTART:20180311T070000
END:DAYLIGHT
BEGIN:STANDARD
TZOFFSETFROM:-0400
TZOFFSETTO:-0500
TZNAME:EST
DTSTART:20181104T060000
END:STANDARD
BEGIN:DAYLIGHT
TZOFFSETFROM:-0500
TZOFFSETTO:-0400
TZNAME:EDT
DTSTART:20190310T070000
END:DAYLIGHT
BEGIN:STANDARD
TZOFFSETFROM:-0400
TZOFFSETTO:-0500
TZNAME:EST
DTSTART:20191103T060000
END:STANDARD
BEGIN:DAYLIGHT
TZOFFSETFROM:-0500
TZOFFSETTO:-0400
TZNAME:EDT
DTSTART:20200308T070000
END:DAYLIGHT
BEGIN:STANDARD
TZOFFSETFROM:-0400
TZOFFSETTO:-0500
TZNAME:EST
DTSTART:20201101T060000
END:STANDARD
BEGIN:DAYLIGHT
TZOFFSETFROM:-0500
TZOFFSETTO:-0400
TZNAME:EDT
DTSTART:20210314T070000
END:DAYLIGHT
BEGIN:STANDARD
TZOFFSETFROM:-0400
TZOFFSETTO:-0500
TZNAME:EST
DTSTART:20211107T060000
END:STANDARD
BEGIN:DAYLIGHT
TZOFFSETFROM:-0500
TZOFFSETTO:-0400
TZNAME:EDT
DTSTART:20220313T070000
END:DAYLIGHT
BEGIN:STANDARD
TZOFFSETFROM:-0400
TZOFFSETTO:-0500
TZNAME:EST
DTSTART:20221106T060000
END:STANDARD
BEGIN:DAYLIGHT
TZOFFSETFROM:-0500
TZOFFSETTO:-0400
TZNAME:EDT
DTSTART:20230312T070000
END:DAYLIGHT
BEGIN:STANDARD
TZOFFSETFROM:-0400
TZOFFSETTO:-0500
TZNAME:EST
DTSTART:20231105T060000
END:STANDARD
BEGIN:DAYLIGHT
TZOFFSETFROM:-0500
TZOFFSETTO:-0400
TZNAME:EDT
DTSTART:20240310T070000
END:DAYLIGHT
BEGIN:STANDARD
TZOFFSETFROM:-0400
TZOFFSETTO:-0500
TZNAME:EST
DTSTART:20241103T060000
END:STANDARD
BEGIN:DAYLIGHT
TZOFFSETFROM:-0500
TZOFFSETTO:-0400
TZNAME:EDT
DTSTART:20250309T070000
END:DAYLIGHT
BEGIN:STANDARD
TZOFFSETFROM:-0400
TZOFFSETTO:-0500
TZNAME:EST
DTSTART:20251102T060000
END:STANDARD
BEGIN:DAYLIGHT
TZOFFSETFROM:-0500
TZOFFSETTO:-0400
TZNAME:EDT
DTSTART:20260308T070000
END:DAYLIGHT
BEGIN:STANDARD
TZOFFSETFROM:-0400
TZOFFSETTO:-0500
TZNAME:EST
DTSTART:20261101T060000
END:STANDARD
BEGIN:DAYLIGHT
TZOFFSETFROM:-0500
TZOFFSETTO:-0400
TZNAME:EDT
DTSTART:20270314T070000
END:DAYLIGHT
BEGIN:STANDARD
TZOFFSETFROM:-0400
TZOFFSETTO:-0500
TZNAME:EST
DTSTART:20271107T060000
END:STANDARD
END:VTIMEZONE
BEGIN:VEVENT
DTSTART;TZID=America/New_York:20260101T100000
DTEND;TZID=America/New_York:20260101T120000
DTSTAMP:20260423T012259
CREATED:20251209T020132Z
LAST-MODIFIED:20251209T020212Z
UID:59450-1767261600-1767268800@www.baus.org
SUMMARY:2026 New Year’s Interfaith Prayer for World Peace
DESCRIPTION:We are pleased to invite you to attend “The New Year’s Interfaith Prayer for World Peace on New Year’s Day\, January 1\, 2026 (Thursday). Starting at 10:00 am in the Great Buddha Hall of Chuang-Yen Monastery. \n\n																														 \nStart your New Year with hope\, unity\, and blessings at this cherished tradition that has been held for over 30 years. The New Year’s Interfaith Prayer for World Peace is one of the most anticipated events of the year\, bringing together representatives from various faiths and organizations\, including Greymoor\, Maryknoll Council\, Judaism\, the United Nations NGO\, the Bahá’í Faith\, and more. Reconnect with old friends\, and warmly welcome new ones as we unite in prayers for world peace and share blessings with one another. Don’t miss this inspiring opportunity to embrace harmony and hope for the year ahead.\nPlease join us for inspiration from knowledgeable speakers and more…
URL:https://www.baus.org/en/event/2026-new-years-interfaith-prayer-for-world-peace/
LOCATION:Chuang Yen Mnastery\,  2020\, Route 301\, \, Carmel\, NY\, 10512\, United States
CATEGORIES:Chuang Yen Monastery
END:VEVENT
BEGIN:VEVENT
DTSTART;TZID=America/New_York:20191103T090000
DTEND;TZID=America/New_York:20191103T232000
DTSTAMP:20260423T012259
CREATED:20190925T030207Z
LAST-MODIFIED:20190925T030358Z
UID:14646-1572771600-1572823200@www.baus.org
SUMMARY:Sunday Meditation
DESCRIPTION:Kuan Yin Hall from 9:00 to 11:20\nSiyu Koswatta
URL:https://www.baus.org/en/event/sunday-meditation-2/
LOCATION:NY
CATEGORIES:Chuang Yen Monastery
END:VEVENT
BEGIN:VEVENT
DTSTART;TZID=America/New_York:20191027T090000
DTEND;TZID=America/New_York:20191027T112000
DTSTAMP:20260423T012259
CREATED:20190925T025916Z
LAST-MODIFIED:20190925T025932Z
UID:14644-1572166800-1572175200@www.baus.org
SUMMARY:Sunday Meditation
DESCRIPTION:Kuan Yin Hall from 9:00 to 11:20\nBruce Kou
URL:https://www.baus.org/en/event/sunday-meditation/
LOCATION:NY
CATEGORIES:Chuang Yen Monastery
END:VEVENT
BEGIN:VEVENT
DTSTART;TZID=America/New_York:20191013T100000
DTEND;TZID=America/New_York:20191013T120000
DTSTAMP:20260423T012259
CREATED:20190113T150104Z
LAST-MODIFIED:20190113T150104Z
UID:13358-1570960800-1570968000@www.baus.org
SUMMARY:Kuan-Yin Bodhisattva's Renunciation Ceremony
DESCRIPTION:
URL:https://www.baus.org/en/event/kuan-yin-bodhisattvas-renunciation-ceremony-3/
LOCATION:NY
CATEGORIES:Chuang Yen Monastery
END:VEVENT
BEGIN:VEVENT
DTSTART;TZID=America/New_York:20191006T013000
DTEND;TZID=America/New_York:20191006T163000
DTSTAMP:20260423T012259
CREATED:20190113T145919Z
LAST-MODIFIED:20190113T145919Z
UID:13356-1570325400-1570379400@www.baus.org
SUMMARY:Fall Ritual for the Deceased
DESCRIPTION:
URL:https://www.baus.org/en/event/fall-ritual-for-the-deceased-3/
LOCATION:NY
CATEGORIES:Chuang Yen Monastery
END:VEVENT
BEGIN:VEVENT
DTSTART;TZID=America/New_York:20190914T160000
DTEND;TZID=America/New_York:20190914T203000
DTSTAMP:20260423T012259
CREATED:20190113T145629Z
LAST-MODIFIED:20190113T145629Z
UID:13354-1568476800-1568493000@www.baus.org
SUMMARY:Emperor Liang Repentance Ceremony
DESCRIPTION:
URL:https://www.baus.org/en/event/emperor-liang-repentance-ceremony-3/
LOCATION:NY
CATEGORIES:Chuang Yen Monastery
END:VEVENT
BEGIN:VEVENT
DTSTART;TZID=America/New_York:20190824T090000
DTEND;TZID=America/New_York:20190824T160000
DTSTAMP:20260423T012259
CREATED:20190626T052404Z
LAST-MODIFIED:20190626T052755Z
UID:14183-1566637200-1566662400@www.baus.org
SUMMARY:A Course in the Anguttara Nikaya with Ven. Bhikkhu Bodhi
DESCRIPTION:The Anguttara Nikaya arranges discourses of the Buddha according to a numerical pattern\, grouping together suttas that revolve around the same number of items. This ongoing class starts at 9:00 am with a 50-minute silent meditation\, followed by a discussion of the suttas from 10:00 am to 11:20 am. \n* August 24th\, the meditation program will continue after the mid-day meal from 1 pm to 4 pm. with alternating sitting and walking meditation.
URL:https://www.baus.org/en/event/a-course-in-the-anguttara-nikaya-with-ven-bhikkhu-bodhi-34-2019-08-24/
LOCATION:NY
CATEGORIES:Chuang Yen Monastery
END:VEVENT
BEGIN:VEVENT
DTSTART;TZID=America/New_York:20190811T100000
DTEND;TZID=America/New_York:20190811T120000
DTSTAMP:20260423T012259
CREATED:20190113T145249Z
LAST-MODIFIED:20190113T145249Z
UID:13350-1565517600-1565524800@www.baus.org
SUMMARY:Ullambana Ceremony
DESCRIPTION:
URL:https://www.baus.org/en/event/ullambana-ceremony-2/
LOCATION:NY
CATEGORIES:Chuang Yen Monastery
END:VEVENT
BEGIN:VEVENT
DTSTART;TZID=America/New_York:20190727T090000
DTEND;TZID=America/New_York:20190727T160000
DTSTAMP:20260423T012259
CREATED:20190626T052404Z
LAST-MODIFIED:20190626T052624Z
UID:14179-1564218000-1564243200@www.baus.org
SUMMARY:A Course in the Anguttara Nikaya with Ven. Bhikkhu Bodhi
DESCRIPTION:The Anguttara Nikaya arranges discourses of the Buddha according to a numerical pattern\, grouping together suttas that revolve around the same number of items. This ongoing class starts at 9:00 am with a 50-minute silent meditation\, followed by a discussion of the suttas from 10:00 am to 11:20 am. \nOn July 27th \, the meditation program will continue after the mid-day meal from 1 pm to 4 pm. with alternating sitting and walking meditation.
URL:https://www.baus.org/en/event/a-course-in-the-anguttara-nikaya-with-ven-bhikkhu-bodhi-34-2019-07-27/
LOCATION:NY
CATEGORIES:Chuang Yen Monastery
END:VEVENT
BEGIN:VEVENT
DTSTART;TZID=America/New_York:20190721T100000
DTEND;TZID=America/New_York:20190721T120000
DTSTAMP:20260423T012259
CREATED:20190113T145056Z
LAST-MODIFIED:20190113T145056Z
UID:13348-1563703200-1563710400@www.baus.org
SUMMARY:Kuan-Yin Bodhisattva's Enlightenment Ceramony
DESCRIPTION:
URL:https://www.baus.org/en/event/kuan-yin-bodhisattvas-enlightenment-ceramony/
LOCATION:NY
CATEGORIES:Chuang Yen Monastery
END:VEVENT
BEGIN:VEVENT
DTSTART;TZID=America/New_York:20190622T090000
DTEND;TZID=America/New_York:20190622T114000
DTSTAMP:20260423T012259
CREATED:20190208T034452Z
LAST-MODIFIED:20190208T034452Z
UID:13480-1561194000-1561203600@www.baus.org
SUMMARY:A Course in the Anguttara Nikaya  with Ven. Bhikkhu Bodhi
DESCRIPTION:The Anguttara Nikaya arranges discourses of the Buddha according to a numerical pattern\, grouping together suttas that revolve around the same number of items. This ongoing class starts at 9:00 am with a 50-minute silent meditation\, followed by a discussion of the suttas from 10:00 am to 11:20 am. This section of the class will continue with the study of “The Book of the Threes.”
URL:https://www.baus.org/en/event/a-course-in-the-anguttara-nikaya-with-ven-bhikkhu-bodhi-33/
LOCATION:NY
CATEGORIES:Chuang Yen Monastery
END:VEVENT
BEGIN:VEVENT
DTSTART;TZID=America/New_York:20190615T090000
DTEND;TZID=America/New_York:20190615T114000
DTSTAMP:20260423T012259
CREATED:20190208T034350Z
LAST-MODIFIED:20190208T034350Z
UID:13478-1560589200-1560598800@www.baus.org
SUMMARY:A Course in the Anguttara Nikaya  with Ven. Bhikkhu Bodhi
DESCRIPTION:The Anguttara Nikaya arranges discourses of the Buddha according to a numerical pattern\, grouping together suttas that revolve around the same number of items. This ongoing class starts at 9:00 am with a 50-minute silent meditation\, followed by a discussion of the suttas from 10:00 am to 11:20 am. This section of the class will continue with the study of “The Book of the Threes.”
URL:https://www.baus.org/en/event/a-course-in-the-anguttara-nikaya-with-ven-bhikkhu-bodhi-32/
LOCATION:NY
CATEGORIES:Chuang Yen Monastery
END:VEVENT
BEGIN:VEVENT
DTSTART;TZID=America/New_York:20190601T090000
DTEND;TZID=America/New_York:20190601T114000
DTSTAMP:20260423T012259
CREATED:20190208T034250Z
LAST-MODIFIED:20190208T034250Z
UID:13476-1559379600-1559389200@www.baus.org
SUMMARY:A Course in the Anguttara Nikaya  with Ven. Bhikkhu Bodhi
DESCRIPTION:The Anguttara Nikaya arranges discourses of the Buddha according to a numerical pattern\, grouping together suttas that revolve around the same number of items. This ongoing class starts at 9:00 am with a 50-minute silent meditation\, followed by a discussion of the suttas from 10:00 am to 11:20 am. This section of the class will continue with the study of “The Book of the Threes.”
URL:https://www.baus.org/en/event/a-course-in-the-anguttara-nikaya-with-ven-bhikkhu-bodhi-31/
LOCATION:NY
CATEGORIES:Chuang Yen Monastery
END:VEVENT
BEGIN:VEVENT
DTSTART;TZID=America/New_York:20190518T090000
DTEND;TZID=America/New_York:20190518T234000
DTSTAMP:20260423T012259
CREATED:20190208T034124Z
LAST-MODIFIED:20190208T034124Z
UID:13474-1558170000-1558222800@www.baus.org
SUMMARY:A Course in the Anguttara Nikaya  with Ven. Bhikkhu Bodhi
DESCRIPTION:The Anguttara Nikaya arranges discourses of the Buddha according to a numerical pattern\, grouping together suttas that revolve around the same number of items. This ongoing class starts at 9:00 am with a 50-minute silent meditation\, followed by a discussion of the suttas from 10:00 am to 11:20 am. This section of the class will continue with the study of “The Book of the Threes.”
URL:https://www.baus.org/en/event/a-course-in-the-anguttara-nikaya-with-ven-bhikkhu-bodhi-30/
LOCATION:NY
CATEGORIES:Chuang Yen Monastery
END:VEVENT
BEGIN:VEVENT
DTSTART;TZID=America/New_York:20190512T100000
DTEND;TZID=America/New_York:20190512T150000
DTSTAMP:20260423T012259
CREATED:20190113T144246Z
LAST-MODIFIED:20190113T144246Z
UID:13342-1557655200-1557673200@www.baus.org
SUMMARY:Buddha Day Ceremony & Mother's Day Garden Party
DESCRIPTION:
URL:https://www.baus.org/en/event/buddha-day-ceremony-mothers-day-garden-party/
LOCATION:NY
CATEGORIES:Chuang Yen Monastery
END:VEVENT
BEGIN:VEVENT
DTSTART;TZID=America/New_York:20190511T090000
DTEND;TZID=America/New_York:20190511T234000
DTSTAMP:20260423T012259
CREATED:20190208T033910Z
LAST-MODIFIED:20190208T034015Z
UID:13472-1557565200-1557618000@www.baus.org
SUMMARY:A Course in the Anguttara Nikaya  with Ven. Bhikkhu Bodhi
DESCRIPTION:The Anguttara Nikaya arranges discourses of the Buddha according to a numerical pattern\, grouping together suttas that revolve around the same number of items. This ongoing class starts at 9:00 am with a 50-minute silent meditation\, followed by a discussion of the suttas from 10:00 am to 11:20 am. This section of the class will continue with the study of “The Book of the Threes.”
URL:https://www.baus.org/en/event/a-course-in-the-anguttara-nikaya-with-ven-bhikkhu-bodhi-29/
LOCATION:NY
CATEGORIES:Chuang Yen Monastery
END:VEVENT
BEGIN:VEVENT
DTSTART;TZID=America/New_York:20190505T133000
DTEND;TZID=America/New_York:20190505T160000
DTSTAMP:20260423T012259
CREATED:20190113T144123Z
LAST-MODIFIED:20190113T144123Z
UID:13340-1557063000-1557072000@www.baus.org
SUMMARY:Spring Ritual for the Deceased
DESCRIPTION:
URL:https://www.baus.org/en/event/spring-ritual-for-the-deceased-3/
LOCATION:NY
CATEGORIES:Chuang Yen Monastery
END:VEVENT
BEGIN:VEVENT
DTSTART;TZID=America/New_York:20190504T090000
DTEND;TZID=America/New_York:20190504T114000
DTSTAMP:20260423T012259
CREATED:20190208T033711Z
LAST-MODIFIED:20190208T033711Z
UID:13470-1556960400-1556970000@www.baus.org
SUMMARY:A Course in the Anguttara Nikaya  with Ven. Bhikkhu Bodhi
DESCRIPTION:The Anguttara Nikaya arranges discourses of the Buddha according to a numerical pattern\, grouping together suttas that revolve around the same number of items. This ongoing class starts at 9:00 am with a 50-minute silent meditation\, followed by a discussion of the suttas from 10:00 am to 11:20 am. This section of the class will continue with the study of “The Book of the Threes.”
URL:https://www.baus.org/en/event/a-course-in-the-anguttara-nikaya-with-ven-bhikkhu-bodhi-28/
LOCATION:NY
CATEGORIES:Chuang Yen Monastery
END:VEVENT
BEGIN:VEVENT
DTSTART;TZID=America/New_York:20190413T090000
DTEND;TZID=America/New_York:20190413T232000
DTSTAMP:20260423T012259
CREATED:20190208T033558Z
LAST-MODIFIED:20190208T033558Z
UID:13468-1555146000-1555197600@www.baus.org
SUMMARY:A Course in the Anguttara Nikaya  with Ven. Bhikkhu Bodhi
DESCRIPTION:The Anguttara Nikaya arranges discourses of the Buddha according to a numerical pattern\, grouping together suttas that revolve around the same number of items. This ongoing class starts at 9:00 am with a 50-minute silent meditation\, followed by a discussion of the suttas from 10:00 am to 11:20 am. This section of the class will continue with the study of “The Book of the Threes.”
URL:https://www.baus.org/en/event/a-course-in-the-anguttara-nikaya-with-ven-bhikkhu-bodhi-27/
LOCATION:NY
CATEGORIES:Chuang Yen Monastery
END:VEVENT
BEGIN:VEVENT
DTSTART;TZID=America/New_York:20190407T100000
DTEND;TZID=America/New_York:20190407T163000
DTSTAMP:20260423T012259
CREATED:20190113T144003Z
LAST-MODIFIED:20190113T144003Z
UID:13338-1554631200-1554654600@www.baus.org
SUMMARY:Qinming Ceremony
DESCRIPTION:
URL:https://www.baus.org/en/event/qinming-ceremony-3/
LOCATION:NY
CATEGORIES:Chuang Yen Monastery
END:VEVENT
BEGIN:VEVENT
DTSTART;TZID=America/New_York:20190406T090000
DTEND;TZID=America/New_York:20190406T232000
DTSTAMP:20260423T012259
CREATED:20190208T033348Z
LAST-MODIFIED:20190208T033348Z
UID:13466-1554541200-1554592800@www.baus.org
SUMMARY:A Course in the Anguttara Nikaya  with Ven. Bhikkhu Bodhi
DESCRIPTION:The Anguttara Nikaya arranges discourses of the Buddha according to a numerical pattern\, grouping together suttas that revolve around the same number of items. This ongoing class starts at 9:00 am with a 50-minute silent meditation\, followed by a discussion of the suttas from 10:00 am to 11:20 am. This section of the class will continue with the study of “The Book of the Threes.”
URL:https://www.baus.org/en/event/a-course-in-the-anguttara-nikaya-with-ven-bhikkhu-bodhi-26/
LOCATION:NY
CATEGORIES:Chuang Yen Monastery
END:VEVENT
BEGIN:VEVENT
DTSTART;TZID=America/New_York:20190205T100000
DTEND;TZID=America/New_York:20190205T153000
DTSTAMP:20260423T012259
CREATED:20190113T143742Z
LAST-MODIFIED:20190113T143742Z
UID:13336-1549360800-1549380600@www.baus.org
SUMMARY:Chinese Luner New Year Blessing Ceremony
DESCRIPTION:
URL:https://www.baus.org/en/event/chinese-luner-new-year-blessing-ceremony/
LOCATION:NY
CATEGORIES:Chuang Yen Monastery
END:VEVENT
BEGIN:VEVENT
DTSTART;TZID=America/New_York:20190101T100000
DTEND;TZID=America/New_York:20190101T233000
DTSTAMP:20260423T012259
CREATED:20181129T045939Z
LAST-MODIFIED:20181129T045939Z
UID:13260-1546336800-1546385400@www.baus.org
SUMMARY:Interfaith Prayer for World Peace
DESCRIPTION:New Year’s Day\, January 1\, 2019 (Tuesday).\n10:00 am in the Great Buddha Hall\nLunch 11:30 am
URL:https://www.baus.org/en/event/interfaith-prayer-for-world-peace/
LOCATION:NY
CATEGORIES:Chuang Yen Monastery
END:VEVENT
BEGIN:VEVENT
DTSTART;TZID=America/New_York:20181216T093000
DTEND;TZID=America/New_York:20181216T110000
DTSTAMP:20260423T012259
CREATED:20180331T053848Z
LAST-MODIFIED:20180331T054326Z
UID:12427-1544952600-1544958000@www.baus.org
SUMMARY:Sunday am Meditation
DESCRIPTION:Join us for Sunday morning meditation\nLocation: Kuan Yin Hall
URL:https://www.baus.org/en/event/sunday-am-meditation-13/
LOCATION:NY
CATEGORIES:Chuang Yen Monastery
END:VEVENT
BEGIN:VEVENT
DTSTART;TZID=America/New_York:20181215T090000
DTEND;TZID=America/New_York:20181215T112000
DTSTAMP:20260423T012259
CREATED:20180927T203832Z
LAST-MODIFIED:20180927T203832Z
UID:13163-1544864400-1544872800@www.baus.org
SUMMARY:A Course in the Anguttara Nikaya with Ven. Bhikkhu Bodhi
DESCRIPTION:The Numerical Discourses of the Buddha The Anguttara Nikaya arranges discourses of the Buddha according to a numerical pattern\, grouping together suttas that revolve around the same number of items\, from “The Ones” to “The Elevens.” The class starts at 9:00 am with a 50-minute silent meditation.
URL:https://www.baus.org/en/event/a-course-in-the-anguttara-nikaya-with-ven-bhikkhu-bodhi-25/
LOCATION:NY
CATEGORIES:Chuang Yen Monastery
END:VEVENT
BEGIN:VEVENT
DTSTART;TZID=America/New_York:20181209T093000
DTEND;TZID=America/New_York:20181209T160000
DTSTAMP:20260423T012259
CREATED:20180331T052749Z
LAST-MODIFIED:20180331T052749Z
UID:12414-1544347800-1544371200@www.baus.org
SUMMARY:1 Day Meditation Retreat with David Listen
DESCRIPTION:Join us for a full day Meditation retreat 9:30-4:00 pm\nLocation: Kuan Yin Hall
URL:https://www.baus.org/en/event/1-day-meditation-retreat-with-david-listen-8/
LOCATION:NY
CATEGORIES:Chuang Yen Monastery
END:VEVENT
BEGIN:VEVENT
DTSTART;TZID=America/New_York:20181208T090000
DTEND;TZID=America/New_York:20181208T112000
DTSTAMP:20260423T012259
CREATED:20180927T203711Z
LAST-MODIFIED:20180927T203711Z
UID:13161-1544259600-1544268000@www.baus.org
SUMMARY:A Course in the Anguttara Nikaya with Ven. Bhikkhu Bodhi
DESCRIPTION:The Numerical Discourses of the Buddha The Anguttara Nikaya arranges discourses of the Buddha according to a numerical pattern\, grouping together suttas that revolve around the same number of items\, from “The Ones” to “The Elevens.” The class starts at 9:00 am with a 50-minute silent meditation.
URL:https://www.baus.org/en/event/a-course-in-the-anguttara-nikaya-with-ven-bhikkhu-bodhi-24/
LOCATION:NY
CATEGORIES:Chuang Yen Monastery
END:VEVENT
BEGIN:VEVENT
DTSTART;TZID=America/New_York:20181202T093000
DTEND;TZID=America/New_York:20181202T110000
DTSTAMP:20260423T012259
CREATED:20180331T051234Z
LAST-MODIFIED:20180331T051234Z
UID:12399-1543743000-1543748400@www.baus.org
SUMMARY:Sunday am Meditation
DESCRIPTION:Please join us Bruce Kou will be teaching Meditation.\nLocation: Kaun Yin Hall
URL:https://www.baus.org/en/event/sunday-am-meditation-7/
LOCATION:NY
CATEGORIES:Chuang Yen Monastery
END:VEVENT
BEGIN:VEVENT
DTSTART;TZID=America/New_York:20181201T090000
DTEND;TZID=America/New_York:20181201T112000
DTSTAMP:20260423T012259
CREATED:20180927T203547Z
LAST-MODIFIED:20180927T203547Z
UID:13159-1543654800-1543663200@www.baus.org
SUMMARY:A Course in the Anguttara Nikaya with Ven. Bhikkhu Bodhi
DESCRIPTION:The Numerical Discourses of the Buddha The Anguttara Nikaya arranges discourses of the Buddha according to a numerical pattern\, grouping together suttas that revolve around the same number of items\, from “The Ones” to “The Elevens.” The class starts at 9:00 am with a 50-minute silent meditation.
URL:https://www.baus.org/en/event/a-course-in-the-anguttara-nikaya-with-ven-bhikkhu-bodhi-23/
LOCATION:NY
CATEGORIES:Chuang Yen Monastery
END:VEVENT
BEGIN:VEVENT
DTSTART;TZID=America/New_York:20181117T090000
DTEND;TZID=America/New_York:20181117T112000
DTSTAMP:20260423T012259
CREATED:20180927T203414Z
LAST-MODIFIED:20180927T203414Z
UID:13157-1542445200-1542453600@www.baus.org
SUMMARY:A Course in the Anguttara Nikaya with Ven. Bhikkhu Bodhi
DESCRIPTION:The Numerical Discourses of the Buddha The Anguttara Nikaya arranges discourses of the Buddha according to a numerical pattern\, grouping together suttas that revolve around the same number of items\, from “The Ones” to “The Elevens.” The class starts at 9:00 am with a 50-minute silent meditation.
URL:https://www.baus.org/en/event/a-course-in-the-anguttara-nikaya-with-ven-bhikkhu-bodhi-22/
LOCATION:NY
CATEGORIES:Chuang Yen Monastery
END:VEVENT
END:VCALENDAR